BEGIN:VCALENDAR
VERSION:2.0
PRODID:-//Great Lakes Adaptive Sports Association – Let no one sit on the sidelines - ECPv6.15.18//NONSGML v1.0//EN
CALSCALE:GREGORIAN
METHOD:PUBLISH
X-WR-CALNAME:Great Lakes Adaptive Sports Association – Let no one sit on the sidelines
X-ORIGINAL-URL:https://glasa.org
X-WR-CALDESC:Events for Great Lakes Adaptive Sports Association – Let no one sit on the sidelines
REFRESH-INTERVAL;VALUE=DURATION:PT1H
X-Robots-Tag:noindex
X-PUBLISHED-TTL:PT1H
BEGIN:VTIMEZONE
TZID:America/Chicago
BEGIN:DAYLIGHT
TZOFFSETFROM:-0600
TZOFFSETTO:-0500
TZNAME:CDT
DTSTART:20250309T080000
END:DAYLIGHT
BEGIN:STANDARD
TZOFFSETFROM:-0500
TZOFFSETTO:-0600
TZNAME:CST
DTSTART:20251102T070000
END:STANDARD
BEGIN:DAYLIGHT
TZOFFSETFROM:-0600
TZOFFSETTO:-0500
TZNAME:CDT
DTSTART:20260308T080000
END:DAYLIGHT
BEGIN:STANDARD
TZOFFSETFROM:-0500
TZOFFSETTO:-0600
TZNAME:CST
DTSTART:20261101T070000
END:STANDARD
BEGIN:DAYLIGHT
TZOFFSETFROM:-0600
TZOFFSETTO:-0500
TZNAME:CDT
DTSTART:20270314T080000
END:DAYLIGHT
BEGIN:STANDARD
TZOFFSETFROM:-0500
TZOFFSETTO:-0600
TZNAME:CST
DTSTART:20271107T070000
END:STANDARD
END:VTIMEZONE
BEGIN:VEVENT
DTSTART;VALUE=DATE:20260911
DTEND;VALUE=DATE:20260914
DTSTAMP:20260425T003455
CREATED:20260115T170933Z
LAST-MODIFIED:20260115T170933Z
UID:10003900-1789084800-1789343999@glasa.org
SUMMARY:GLASA Wheelchair and Para Standing Tennis Tournament
DESCRIPTION:
URL:https://glasa.org/event/glasa-wheelchair-and-para-standing-tennis-tournament-2/
LOCATION:Midtown Athletic Club\, 2211 Waukegan Rd\, Bannockburn\, IL\, 60015\, United States
ATTACH;FMTTYPE=image/jpeg:https://glasa.org/wp-content/uploads/2023/07/IMG_8025-scaled.jpeg
END:VEVENT
END:VCALENDAR