BEGIN:VCALENDAR
VERSION:2.0
PRODID:-//Great Lakes Adaptive Sports Association – Let no one sit on the sidelines - ECPv6.15.18//NONSGML v1.0//EN
CALSCALE:GREGORIAN
METHOD:PUBLISH
X-WR-CALNAME:Great Lakes Adaptive Sports Association – Let no one sit on the sidelines
X-ORIGINAL-URL:https://glasa.org
X-WR-CALDESC:Events for Great Lakes Adaptive Sports Association – Let no one sit on the sidelines
REFRESH-INTERVAL;VALUE=DURATION:PT1H
X-Robots-Tag:noindex
X-PUBLISHED-TTL:PT1H
BEGIN:VTIMEZONE
TZID:America/Chicago
BEGIN:DAYLIGHT
TZOFFSETFROM:-0600
TZOFFSETTO:-0500
TZNAME:CDT
DTSTART:20220313T080000
END:DAYLIGHT
BEGIN:STANDARD
TZOFFSETFROM:-0500
TZOFFSETTO:-0600
TZNAME:CST
DTSTART:20221106T070000
END:STANDARD
BEGIN:DAYLIGHT
TZOFFSETFROM:-0600
TZOFFSETTO:-0500
TZNAME:CDT
DTSTART:20230312T080000
END:DAYLIGHT
BEGIN:STANDARD
TZOFFSETFROM:-0500
TZOFFSETTO:-0600
TZNAME:CST
DTSTART:20231105T070000
END:STANDARD
BEGIN:DAYLIGHT
TZOFFSETFROM:-0600
TZOFFSETTO:-0500
TZNAME:CDT
DTSTART:20240310T080000
END:DAYLIGHT
BEGIN:STANDARD
TZOFFSETFROM:-0500
TZOFFSETTO:-0600
TZNAME:CST
DTSTART:20241103T070000
END:STANDARD
BEGIN:DAYLIGHT
TZOFFSETFROM:-0600
TZOFFSETTO:-0500
TZNAME:CDT
DTSTART:20250309T080000
END:DAYLIGHT
BEGIN:STANDARD
TZOFFSETFROM:-0500
TZOFFSETTO:-0600
TZNAME:CST
DTSTART:20251102T070000
END:STANDARD
END:VTIMEZONE
BEGIN:VEVENT
DTSTART;TZID=America/Chicago:20241114T183000
DTEND;TZID=America/Chicago:20241114T200000
DTSTAMP:20260418T181949
CREATED:20241022T210239Z
LAST-MODIFIED:20250107T065639Z
UID:10002160-1731609000-1731614400@glasa.org
SUMMARY:Wheelchair Basketball
DESCRIPTION:
URL:https://glasa.org/event/wheelchair-basketball-varsity/2024-11-14/
LOCATION:Midtown Athletic Club Bannockburn\, 2211 Waukegan Rd\, Bannockburn\, IL\, 60015\, United States
CATEGORIES:Wheelchair Basketball
ATTACH;FMTTYPE=image/jpeg:https://glasa.org/wp-content/uploads/2023/07/Sport-_0007_Wheelchair-Basketball-2.jpg
END:VEVENT
BEGIN:VEVENT
DTSTART;TZID=America/Chicago:20241110T123000
DTEND;TZID=America/Chicago:20241110T143000
DTSTAMP:20260418T181949
CREATED:20241022T210828Z
LAST-MODIFIED:20250217T214304Z
UID:10002182-1731241800-1731249000@glasa.org
SUMMARY:Wheelchair Basketball
DESCRIPTION:Wheelchair basketball is played by individuals with varying physical disabilities. Players will use a sports chair provided by GLASA. \nGLASA has two teams\, a Junior Prep Division team and a Junior Varsity Division team. The teams may travel to tournaments during the season\, with the opportunity to qualify for the State Tournament and the National Junior Wheelchair Basketball Tournament. \nSundays 12:30pm-2:30pm at Midtown Bannockburn \nYouth & Teen (Ages 6 – High School)\nWheelchair & Ambulatory
URL:https://glasa.org/event/wheelchair-basketball-3/2024-11-10/
LOCATION:Midtown Athletic Club Bannockburn\, 2211 Waukegan Rd\, Bannockburn\, IL\, 60015\, United States
CATEGORIES:Wheelchair Basketball
ATTACH;FMTTYPE=image/jpeg:https://glasa.org/wp-content/uploads/2023/07/Sport-_0007_Wheelchair-Basketball-2.jpg
END:VEVENT
BEGIN:VEVENT
DTSTART;TZID=America/Chicago:20241107T183000
DTEND;TZID=America/Chicago:20241107T200000
DTSTAMP:20260418T181949
CREATED:20241022T210239Z
LAST-MODIFIED:20250107T065639Z
UID:10002159-1731004200-1731009600@glasa.org
SUMMARY:Wheelchair Basketball
DESCRIPTION:
URL:https://glasa.org/event/wheelchair-basketball-varsity/2024-11-07/
LOCATION:Midtown Athletic Club Bannockburn\, 2211 Waukegan Rd\, Bannockburn\, IL\, 60015\, United States
CATEGORIES:Wheelchair Basketball
ATTACH;FMTTYPE=image/jpeg:https://glasa.org/wp-content/uploads/2023/07/Sport-_0007_Wheelchair-Basketball-2.jpg
END:VEVENT
BEGIN:VEVENT
DTSTART;TZID=America/Chicago:20241103T123000
DTEND;TZID=America/Chicago:20241103T143000
DTSTAMP:20260418T181949
CREATED:20241022T210828Z
LAST-MODIFIED:20250217T214304Z
UID:10002181-1730637000-1730644200@glasa.org
SUMMARY:Wheelchair Basketball
DESCRIPTION:Wheelchair basketball is played by individuals with varying physical disabilities. Players will use a sports chair provided by GLASA. \nGLASA has two teams\, a Junior Prep Division team and a Junior Varsity Division team. The teams may travel to tournaments during the season\, with the opportunity to qualify for the State Tournament and the National Junior Wheelchair Basketball Tournament. \nSundays 12:30pm-2:30pm at Midtown Bannockburn \nYouth & Teen (Ages 6 – High School)\nWheelchair & Ambulatory
URL:https://glasa.org/event/wheelchair-basketball-3/2024-11-03/
LOCATION:Midtown Athletic Club Bannockburn\, 2211 Waukegan Rd\, Bannockburn\, IL\, 60015\, United States
CATEGORIES:Wheelchair Basketball
ATTACH;FMTTYPE=image/jpeg:https://glasa.org/wp-content/uploads/2023/07/Sport-_0007_Wheelchair-Basketball-2.jpg
END:VEVENT
BEGIN:VEVENT
DTSTART;TZID=America/Chicago:20241027T123000
DTEND;TZID=America/Chicago:20241027T143000
DTSTAMP:20260418T181949
CREATED:20241022T210828Z
LAST-MODIFIED:20250217T214304Z
UID:10002180-1730032200-1730039400@glasa.org
SUMMARY:Wheelchair Basketball
DESCRIPTION:Wheelchair basketball is played by individuals with varying physical disabilities. Players will use a sports chair provided by GLASA. \nGLASA has two teams\, a Junior Prep Division team and a Junior Varsity Division team. The teams may travel to tournaments during the season\, with the opportunity to qualify for the State Tournament and the National Junior Wheelchair Basketball Tournament. \nSundays 12:30pm-2:30pm at Midtown Bannockburn \nYouth & Teen (Ages 6 – High School)\nWheelchair & Ambulatory
URL:https://glasa.org/event/wheelchair-basketball-3/2024-10-27/
LOCATION:Midtown Athletic Club Bannockburn\, 2211 Waukegan Rd\, Bannockburn\, IL\, 60015\, United States
CATEGORIES:Wheelchair Basketball
ATTACH;FMTTYPE=image/jpeg:https://glasa.org/wp-content/uploads/2023/07/Sport-_0007_Wheelchair-Basketball-2.jpg
END:VEVENT
BEGIN:VEVENT
DTSTART;TZID=America/Chicago:20240913T163000
DTEND;TZID=America/Chicago:20240915T225900
DTSTAMP:20260418T181949
CREATED:20240820T144308Z
LAST-MODIFIED:20240820T145605Z
UID:10001995-1726245000-1726441140@glasa.org
SUMMARY:GLASA Chicago Wheelchair Classic Tennis Tournament
DESCRIPTION:This USTA National Level 3 Tournament serves wheelchair tennis athletes at the Open\, A\, B and C levels. The competition opens with an Up-Down Tournament on Friday featuring wheelchair athletes on teams with able-bodied tennis players competing for the top prize. Interested in playing in the Up Down Tournament? CLICK HERE \nWheelchair divisions in both singles and doubles will open Saturday and continue Sunday. The weekend includes a free Learn-to-Play Clinic for Youth Athletes on Sunday from 10:30-11:30 PM ages 18 and under who have a physical disability interested in adaptive tennis.
URL:https://glasa.org/event/glasa-chicago-wheelchair-classic-tennis-tournament-2024/
LOCATION:Midtown Athletic Club Bannockburn\, 2211 Waukegan Rd\, Bannockburn\, IL\, 60015\, United States
CATEGORIES:Tennis
ATTACH;FMTTYPE=image/jpeg:https://glasa.org/wp-content/uploads/2023/07/IMG_8025-scaled.jpeg
END:VEVENT
BEGIN:VEVENT
DTSTART;VALUE=DATE:20231026
DTEND;VALUE=DATE:20231030
DTSTAMP:20260418T181949
CREATED:20230724T062153Z
LAST-MODIFIED:20231106T184653Z
UID:10000209-1698361200-1698620399@glasa.org
SUMMARY:GLASA Chicago Wheelchair Classic Tennis Tournament
DESCRIPTION:This USTA National Level 3 Tournament serves wheelchair tennis athletes at the Open\, A\, B and C levels. The competition opens with an Up-Down Tournament on Friday featuring wheelchair athletes on teams with able-bodied tennis players competing for the top prize. Wheelchair divisions in both singles and doubles will open Saturday and continue Sunday. The weekend includes a free Learn-to-Play Clinic for Youth Athletes ages 18 and under who have a physical disability interested in adaptive tennis.
URL:https://glasa.org/event/glasa-chicago-wheelchair-classic-tennis-tournament/
LOCATION:Midtown Athletic Club Bannockburn\, 2211 Waukegan Rd\, Bannockburn\, IL\, 60015\, United States
CATEGORIES:Tennis
ATTACH;FMTTYPE=image/jpeg:https://glasa.org/wp-content/uploads/2023/07/IMG_8025-scaled.jpeg
END:VEVENT
END:VCALENDAR