BEGIN:VCALENDAR
VERSION:2.0
PRODID:-//Great Lakes Adaptive Sports Association – Let no one sit on the sidelines - ECPv6.15.18//NONSGML v1.0//EN
CALSCALE:GREGORIAN
METHOD:PUBLISH
X-WR-CALNAME:Great Lakes Adaptive Sports Association – Let no one sit on the sidelines
X-ORIGINAL-URL:https://glasa.org
X-WR-CALDESC:Events for Great Lakes Adaptive Sports Association – Let no one sit on the sidelines
REFRESH-INTERVAL;VALUE=DURATION:PT1H
X-Robots-Tag:noindex
X-PUBLISHED-TTL:PT1H
BEGIN:VTIMEZONE
TZID:America/Chicago
BEGIN:DAYLIGHT
TZOFFSETFROM:-0600
TZOFFSETTO:-0500
TZNAME:CDT
DTSTART:20230312T080000
END:DAYLIGHT
BEGIN:STANDARD
TZOFFSETFROM:-0500
TZOFFSETTO:-0600
TZNAME:CST
DTSTART:20231105T070000
END:STANDARD
BEGIN:DAYLIGHT
TZOFFSETFROM:-0600
TZOFFSETTO:-0500
TZNAME:CDT
DTSTART:20240310T080000
END:DAYLIGHT
BEGIN:STANDARD
TZOFFSETFROM:-0500
TZOFFSETTO:-0600
TZNAME:CST
DTSTART:20241103T070000
END:STANDARD
BEGIN:DAYLIGHT
TZOFFSETFROM:-0600
TZOFFSETTO:-0500
TZNAME:CDT
DTSTART:20250309T080000
END:DAYLIGHT
BEGIN:STANDARD
TZOFFSETFROM:-0500
TZOFFSETTO:-0600
TZNAME:CST
DTSTART:20251102T070000
END:STANDARD
END:VTIMEZONE
BEGIN:VEVENT
DTSTART;TZID=America/Chicago:20240729T100000
DTEND;TZID=America/Chicago:20240729T150000
DTSTAMP:20260418T175226
CREATED:20240604T005320Z
LAST-MODIFIED:20240625T145606Z
UID:10001707-1722247200-1722265200@glasa.org
SUMMARY:Adaptive Waterskiing with H2O
DESCRIPTION:In partnership with H2O Adaptive Sports\, individuals with a physical or visual disability learn adaptive water skiing.
URL:https://glasa.org/event/adaptive-waterskiing-with-h2o-veterans-day/
LOCATION:Lake Mary at Lance Park\, 55 Lance Drive\, Twin Lakes\, WI\, 53181
CATEGORIES:Water Skiing
ATTACH;FMTTYPE=image/jpeg:https://glasa.org/wp-content/uploads/2024/06/SYNOPHOTO_THUMB_XL.jpg
END:VEVENT
END:VCALENDAR