BEGIN:VCALENDAR
VERSION:2.0
PRODID:-//Great Lakes Adaptive Sports Association – Let no one sit on the sidelines - ECPv6.15.18//NONSGML v1.0//EN
CALSCALE:GREGORIAN
METHOD:PUBLISH
X-WR-CALNAME:Great Lakes Adaptive Sports Association – Let no one sit on the sidelines
X-ORIGINAL-URL:https://glasa.org
X-WR-CALDESC:Events for Great Lakes Adaptive Sports Association – Let no one sit on the sidelines
REFRESH-INTERVAL;VALUE=DURATION:PT1H
X-Robots-Tag:noindex
X-PUBLISHED-TTL:PT1H
BEGIN:VTIMEZONE
TZID:America/Chicago
BEGIN:DAYLIGHT
TZOFFSETFROM:-0600
TZOFFSETTO:-0500
TZNAME:CDT
DTSTART:20220313T080000
END:DAYLIGHT
BEGIN:STANDARD
TZOFFSETFROM:-0500
TZOFFSETTO:-0600
TZNAME:CST
DTSTART:20221106T070000
END:STANDARD
BEGIN:DAYLIGHT
TZOFFSETFROM:-0600
TZOFFSETTO:-0500
TZNAME:CDT
DTSTART:20230312T080000
END:DAYLIGHT
BEGIN:STANDARD
TZOFFSETFROM:-0500
TZOFFSETTO:-0600
TZNAME:CST
DTSTART:20231105T070000
END:STANDARD
BEGIN:DAYLIGHT
TZOFFSETFROM:-0600
TZOFFSETTO:-0500
TZNAME:CDT
DTSTART:20240310T080000
END:DAYLIGHT
BEGIN:STANDARD
TZOFFSETFROM:-0500
TZOFFSETTO:-0600
TZNAME:CST
DTSTART:20241103T070000
END:STANDARD
BEGIN:DAYLIGHT
TZOFFSETFROM:-0600
TZOFFSETTO:-0500
TZNAME:CDT
DTSTART:20250309T080000
END:DAYLIGHT
BEGIN:STANDARD
TZOFFSETFROM:-0500
TZOFFSETTO:-0600
TZNAME:CST
DTSTART:20251102T070000
END:STANDARD
END:VTIMEZONE
BEGIN:VEVENT
DTSTART;TZID=America/Chicago:20240224T083000
DTEND;TZID=America/Chicago:20240224T103000
DTSTAMP:20260418T181404
CREATED:20240208T203806Z
LAST-MODIFIED:20240208T203807Z
UID:10000737-1708763400-1708770600@glasa.org
SUMMARY:2023-2024 Wheelchair Basketball
DESCRIPTION:Wheelchair basketball is played by individuals with varying physical disabilities. Players will use a sports chair provided by GLASA. \nGLASA has two teams\, a Junior Prep Division team (G-Cats) and a Junior Varsity Division team. The G-Cats may travel to tournaments during the season\, with the opportunity to qualify for the State Tournament and the National Junior Wheelchair Basketball Tournament. Offered Fall/Winter/Spring\, Saturdays 8:30 am – 9:30am (prep) 8:30 am – 10:30 pm (varsity) \nYouth & Teen (Ages 6 – High School)\nWheelchair & Ambulatory
URL:https://glasa.org/event/2023-2024-wheelchair-basketball-5/
LOCATION:Lake Forest College Sports and Recreation Center\, S. Campus Drive\, Lake Forest\, IL\, 60045\, United States
CATEGORIES:Wheelchair Basketball
ATTACH;FMTTYPE=image/jpeg:https://glasa.org/wp-content/uploads/2023/07/Sport-_0007_Wheelchair-Basketball-2.jpg
END:VEVENT
BEGIN:VEVENT
DTSTART;TZID=America/Chicago:20240217T083000
DTEND;TZID=America/Chicago:20240217T103000
DTSTAMP:20260418T181404
CREATED:20231221T215610Z
LAST-MODIFIED:20240118T214215Z
UID:10000736-1708158600-1708165800@glasa.org
SUMMARY:2023-2024 Wheelchair Basketball
DESCRIPTION:Wheelchair basketball is played by individuals with varying physical disabilities. Players will use a sports chair provided by GLASA. \nGLASA has two teams\, a Junior Prep Division team (G-Cats) and a Junior Varsity Division team. The G-Cats may travel to tournaments during the season\, with the opportunity to qualify for the State Tournament and the National Junior Wheelchair Basketball Tournament. Offered Fall/Winter/Spring\, Saturdays 8:30 am – 9:30am (prep) 8:30 am – 10:30 pm (varsity) \nYouth & Teen (Ages 6 – High School)\nWheelchair & Ambulatory
URL:https://glasa.org/event/2023-2024-wheelchair-basketball/2024-02-17/
LOCATION:Lake Forest College Sports and Recreation Center\, S. Campus Drive\, Lake Forest\, IL\, 60045\, United States
CATEGORIES:Wheelchair Basketball
ATTACH;FMTTYPE=image/jpeg:https://glasa.org/wp-content/uploads/2023/07/Sport-_0007_Wheelchair-Basketball-2.jpg
END:VEVENT
BEGIN:VEVENT
DTSTART;TZID=America/Chicago:20240210T090000
DTEND;TZID=America/Chicago:20240210T110000
DTSTAMP:20260418T181404
CREATED:20240104T194114Z
LAST-MODIFIED:20240115T172011Z
UID:10000841-1707555600-1707562800@glasa.org
SUMMARY:Track & Field
DESCRIPTION:GLASA provides a continuum of coaching for both ambulatory and wheelchair track and field from the beginner to elite level athlete. Being part of Team GLASA provides access to equipment\, cross-training\, dedicated coaches with Paralympic experience\, logistical assistance\, individual goal setting\, and a schedule of competitions based on the caliber of the athlete. \n\n\n\n\nYouth\, Teen & Adult – Ambulatory and Wheelchair \n(Indoor track for ambulatory athletes is from January through early April. Outdoor track and field for all athletes will begin in early April\, weather permitting.) \nImportant Dates:\nIntro to Para Track and Field Clinic- Saturday\, Jan 27th 1pm-4pm at Carthage College\nUSATF Indoor Meet- Sunday\, Feb 4th at Carthage College\nU.S. Paralympic Track & Field National Championships- March 15th-17th\, Mt Sac\, CA\nU.S. Paralympic Track & Field Team Trials- July 18th-21st \n 
URL:https://glasa.org/event/track-indoor/2024-02-10/
LOCATION:Lake Forest College Sports and Recreation Center\, S. Campus Drive\, Lake Forest\, IL\, 60045\, United States
CATEGORIES:Track & Field
ATTACH;FMTTYPE=image/jpeg:https://glasa.org/wp-content/uploads/2023/07/Sport-_0006_Conditioning-4.jpg
END:VEVENT
BEGIN:VEVENT
DTSTART;TZID=America/Chicago:20240210T083000
DTEND;TZID=America/Chicago:20240210T103000
DTSTAMP:20260418T181404
CREATED:20231221T215610Z
LAST-MODIFIED:20240118T214215Z
UID:10000735-1707553800-1707561000@glasa.org
SUMMARY:2023-2024 Wheelchair Basketball
DESCRIPTION:Wheelchair basketball is played by individuals with varying physical disabilities. Players will use a sports chair provided by GLASA. \nGLASA has two teams\, a Junior Prep Division team (G-Cats) and a Junior Varsity Division team. The G-Cats may travel to tournaments during the season\, with the opportunity to qualify for the State Tournament and the National Junior Wheelchair Basketball Tournament. Offered Fall/Winter/Spring\, Saturdays 8:30 am – 9:30am (prep) 8:30 am – 10:30 pm (varsity) \nYouth & Teen (Ages 6 – High School)\nWheelchair & Ambulatory
URL:https://glasa.org/event/2023-2024-wheelchair-basketball/2024-02-10/
LOCATION:Lake Forest College Sports and Recreation Center\, S. Campus Drive\, Lake Forest\, IL\, 60045\, United States
CATEGORIES:Wheelchair Basketball
ATTACH;FMTTYPE=image/jpeg:https://glasa.org/wp-content/uploads/2023/07/Sport-_0007_Wheelchair-Basketball-2.jpg
END:VEVENT
BEGIN:VEVENT
DTSTART;TZID=America/Chicago:20240120T090000
DTEND;TZID=America/Chicago:20240120T110000
DTSTAMP:20260418T181404
CREATED:20240104T194114Z
LAST-MODIFIED:20240115T172011Z
UID:10000840-1705741200-1705748400@glasa.org
SUMMARY:Track & Field
DESCRIPTION:GLASA provides a continuum of coaching for both ambulatory and wheelchair track and field from the beginner to elite level athlete. Being part of Team GLASA provides access to equipment\, cross-training\, dedicated coaches with Paralympic experience\, logistical assistance\, individual goal setting\, and a schedule of competitions based on the caliber of the athlete. \n\n\n\n\nYouth\, Teen & Adult – Ambulatory and Wheelchair \n(Indoor track for ambulatory athletes is from January through early April. Outdoor track and field for all athletes will begin in early April\, weather permitting.) \nImportant Dates:\nIntro to Para Track and Field Clinic- Saturday\, Jan 27th 1pm-4pm at Carthage College\nUSATF Indoor Meet- Sunday\, Feb 4th at Carthage College\nU.S. Paralympic Track & Field National Championships- March 15th-17th\, Mt Sac\, CA\nU.S. Paralympic Track & Field Team Trials- July 18th-21st \n 
URL:https://glasa.org/event/track-indoor/2024-01-20/
LOCATION:Lake Forest College Sports and Recreation Center\, S. Campus Drive\, Lake Forest\, IL\, 60045\, United States
CATEGORIES:Track & Field
ATTACH;FMTTYPE=image/jpeg:https://glasa.org/wp-content/uploads/2023/07/Sport-_0006_Conditioning-4.jpg
END:VEVENT
BEGIN:VEVENT
DTSTART;TZID=America/Chicago:20240120T083000
DTEND;TZID=America/Chicago:20240120T103000
DTSTAMP:20260418T181404
CREATED:20231221T215610Z
LAST-MODIFIED:20240118T214215Z
UID:10000732-1705739400-1705746600@glasa.org
SUMMARY:2023-2024 Wheelchair Basketball
DESCRIPTION:Wheelchair basketball is played by individuals with varying physical disabilities. Players will use a sports chair provided by GLASA. \nGLASA has two teams\, a Junior Prep Division team (G-Cats) and a Junior Varsity Division team. The G-Cats may travel to tournaments during the season\, with the opportunity to qualify for the State Tournament and the National Junior Wheelchair Basketball Tournament. Offered Fall/Winter/Spring\, Saturdays 8:30 am – 9:30am (prep) 8:30 am – 10:30 pm (varsity) \nYouth & Teen (Ages 6 – High School)\nWheelchair & Ambulatory
URL:https://glasa.org/event/2023-2024-wheelchair-basketball/2024-01-20/
LOCATION:Lake Forest College Sports and Recreation Center\, S. Campus Drive\, Lake Forest\, IL\, 60045\, United States
CATEGORIES:Wheelchair Basketball
ATTACH;FMTTYPE=image/jpeg:https://glasa.org/wp-content/uploads/2023/07/Sport-_0007_Wheelchair-Basketball-2.jpg
END:VEVENT
BEGIN:VEVENT
DTSTART;TZID=America/Chicago:20240113T090000
DTEND;TZID=America/Chicago:20240113T110000
DTSTAMP:20260418T181404
CREATED:20240113T032049Z
LAST-MODIFIED:20240113T032049Z
UID:10000839-1705136400-1705143600@glasa.org
SUMMARY:Track (Indoor)
DESCRIPTION:GLASA provides a continuum of coaching for both ambulatory and wheelchair track and field from the beginner to elite level athlete. Being part of Team GLASA provides access to equipment\, cross-training\, dedicated coaches with Paralympic experience\, logistical assistance\, individual goal setting\, and a schedule of competitions based on the caliber of the athlete. \n\n\n\n\nYouth\, Teen & Adult – Ambulatory Track \n(Outdoor track and field will begin in early April\, weather permitting.) \nImportant Dates:\nIntro to Para Track and Field Clinic- Saturday\, Jan 27th 1pm-4pm at Carthage College\nUSATF Indoor Meet- Sunday\, Feb 4th at Carthage College\nU.S. Paralympic Track & Field National Championships- March 15th-17th\, Mt Sac\, CA\nU.S. Paralympic Track & Field Team Trials- July 18th-21st \n 
URL:https://glasa.org/event/track-indoor-2/
LOCATION:Lake Forest College Sports and Recreation Center\, S. Campus Drive\, Lake Forest\, IL\, 60045\, United States
CATEGORIES:Track & Field
ATTACH;FMTTYPE=image/jpeg:https://glasa.org/wp-content/uploads/2023/07/Sport-_0006_Conditioning-4.jpg
END:VEVENT
BEGIN:VEVENT
DTSTART;TZID=America/Chicago:20240113T083000
DTEND;TZID=America/Chicago:20240113T103000
DTSTAMP:20260418T181404
CREATED:20240112T192923Z
LAST-MODIFIED:20240112T192924Z
UID:10000731-1705134600-1705141800@glasa.org
SUMMARY:2023-2024 Wheelchair Basketball
DESCRIPTION:Wheelchair basketball is played by individuals with varying physical disabilities. Players will use a sports chair provided by GLASA. \nGLASA has two teams\, a Junior Prep Division team (G-Cats) and a Junior Varsity Division team. The G-Cats may travel to tournaments during the season\, with the opportunity to qualify for the State Tournament and the National Junior Wheelchair Basketball Tournament. Offered Fall/Winter/Spring\, Saturdays 8:30 am – 9:30am (prep) 8:30 am – 10:30 pm (varsity) \nYouth & Teen (Ages 6 – High School)\nWheelchair & Ambulatory
URL:https://glasa.org/event/2023-2024-wheelchair-basketball-2/
LOCATION:Lake Forest College Sports and Recreation Center\, S. Campus Drive\, Lake Forest\, IL\, 60045\, United States
CATEGORIES:Wheelchair Basketball
ATTACH;FMTTYPE=image/jpeg:https://glasa.org/wp-content/uploads/2023/07/Sport-_0007_Wheelchair-Basketball-2.jpg
END:VEVENT
BEGIN:VEVENT
DTSTART;TZID=America/Chicago:20240106T090000
DTEND;TZID=America/Chicago:20240106T110000
DTSTAMP:20260418T181404
CREATED:20240104T194114Z
LAST-MODIFIED:20240115T172011Z
UID:10000838-1704531600-1704538800@glasa.org
SUMMARY:Track & Field
DESCRIPTION:GLASA provides a continuum of coaching for both ambulatory and wheelchair track and field from the beginner to elite level athlete. Being part of Team GLASA provides access to equipment\, cross-training\, dedicated coaches with Paralympic experience\, logistical assistance\, individual goal setting\, and a schedule of competitions based on the caliber of the athlete. \n\n\n\n\nYouth\, Teen & Adult – Ambulatory and Wheelchair \n(Indoor track for ambulatory athletes is from January through early April. Outdoor track and field for all athletes will begin in early April\, weather permitting.) \nImportant Dates:\nIntro to Para Track and Field Clinic- Saturday\, Jan 27th 1pm-4pm at Carthage College\nUSATF Indoor Meet- Sunday\, Feb 4th at Carthage College\nU.S. Paralympic Track & Field National Championships- March 15th-17th\, Mt Sac\, CA\nU.S. Paralympic Track & Field Team Trials- July 18th-21st \n 
URL:https://glasa.org/event/track-indoor/2024-01-06/
LOCATION:Lake Forest College Sports and Recreation Center\, S. Campus Drive\, Lake Forest\, IL\, 60045\, United States
CATEGORIES:Track & Field
ATTACH;FMTTYPE=image/jpeg:https://glasa.org/wp-content/uploads/2023/07/Sport-_0006_Conditioning-4.jpg
END:VEVENT
BEGIN:VEVENT
DTSTART;TZID=America/Chicago:20240106T083000
DTEND;TZID=America/Chicago:20240106T103000
DTSTAMP:20260418T181404
CREATED:20231221T215610Z
LAST-MODIFIED:20240118T214215Z
UID:10000730-1704529800-1704537000@glasa.org
SUMMARY:2023-2024 Wheelchair Basketball
DESCRIPTION:Wheelchair basketball is played by individuals with varying physical disabilities. Players will use a sports chair provided by GLASA. \nGLASA has two teams\, a Junior Prep Division team (G-Cats) and a Junior Varsity Division team. The G-Cats may travel to tournaments during the season\, with the opportunity to qualify for the State Tournament and the National Junior Wheelchair Basketball Tournament. Offered Fall/Winter/Spring\, Saturdays 8:30 am – 9:30am (prep) 8:30 am – 10:30 pm (varsity) \nYouth & Teen (Ages 6 – High School)\nWheelchair & Ambulatory
URL:https://glasa.org/event/2023-2024-wheelchair-basketball/2024-01-06/
LOCATION:Lake Forest College Sports and Recreation Center\, S. Campus Drive\, Lake Forest\, IL\, 60045\, United States
CATEGORIES:Wheelchair Basketball
ATTACH;FMTTYPE=image/jpeg:https://glasa.org/wp-content/uploads/2023/07/Sport-_0007_Wheelchair-Basketball-2.jpg
END:VEVENT
BEGIN:VEVENT
DTSTART;TZID=America/Chicago:20231219T180000
DTEND;TZID=America/Chicago:20231219T200000
DTSTAMP:20260418T181404
CREATED:20231120T205311Z
LAST-MODIFIED:20231201T214505Z
UID:10000666-1703008800-1703016000@glasa.org
SUMMARY:GLASA Holiday Party
DESCRIPTION:All are welcome to celebrate the holidays at our annual GLASA Holiday Party! There will be something for everyone including adaptive sports\, fun activities and even a visit from Mr. and Mrs. Claus! Registration is appreciated.
URL:https://glasa.org/event/glasa-holiday-party/
LOCATION:Lake Forest College Sports and Recreation Center\, S. Campus Drive\, Lake Forest\, IL\, 60045\, United States
CATEGORIES:Other
END:VEVENT
END:VCALENDAR