BEGIN:VCALENDAR
VERSION:2.0
PRODID:-//Great Lakes Adaptive Sports Association – Let no one sit on the sidelines - ECPv6.15.18//NONSGML v1.0//EN
CALSCALE:GREGORIAN
METHOD:PUBLISH
X-ORIGINAL-URL:https://glasa.org
X-WR-CALDESC:Events for Great Lakes Adaptive Sports Association – Let no one sit on the sidelines
REFRESH-INTERVAL;VALUE=DURATION:PT1H
X-Robots-Tag:noindex
X-PUBLISHED-TTL:PT1H
BEGIN:VTIMEZONE
TZID:America/Chicago
BEGIN:DAYLIGHT
TZOFFSETFROM:-0600
TZOFFSETTO:-0500
TZNAME:CDT
DTSTART:20230312T080000
END:DAYLIGHT
BEGIN:STANDARD
TZOFFSETFROM:-0500
TZOFFSETTO:-0600
TZNAME:CST
DTSTART:20231105T070000
END:STANDARD
BEGIN:DAYLIGHT
TZOFFSETFROM:-0600
TZOFFSETTO:-0500
TZNAME:CDT
DTSTART:20240310T080000
END:DAYLIGHT
BEGIN:STANDARD
TZOFFSETFROM:-0500
TZOFFSETTO:-0600
TZNAME:CST
DTSTART:20241103T070000
END:STANDARD
BEGIN:DAYLIGHT
TZOFFSETFROM:-0600
TZOFFSETTO:-0500
TZNAME:CDT
DTSTART:20250309T080000
END:DAYLIGHT
BEGIN:STANDARD
TZOFFSETFROM:-0500
TZOFFSETTO:-0600
TZNAME:CST
DTSTART:20251102T070000
END:STANDARD
END:VTIMEZONE
BEGIN:VEVENT
DTSTART;TZID=America/Chicago:20240608T090000
DTEND;TZID=America/Chicago:20240608T110000
DTSTAMP:20260418T175212
CREATED:20240411T203445Z
LAST-MODIFIED:20240411T203447Z
UID:10000856-1717837200-1717844400@glasa.org
SUMMARY:Track & Field
DESCRIPTION:GLASA provides a continuum of coaching for both ambulatory and wheelchair track and field from the beginner to elite level athlete. Being part of Team GLASA provides access to equipment\, cross-training\, dedicated coaches with Paralympic experience\, logistical assistance\, individual goal setting\, and a schedule of competitions based on the caliber of the athlete. \n\n\n\n\nYouth\, Teen & Adult – Ambulatory and Wheelchair \n(Indoor track for ambulatory athletes is from January through early April. Outdoor track and field for all athletes will begin in early April\, weather permitting.) \nImportant Dates:\nIntro to Para Track and Field Clinic- Saturday\, Jan 27th 1pm-4pm at Carthage College\nUSATF Indoor Meet- Sunday\, Feb 4th at Carthage College\nU.S. Paralympic Track & Field National Championships- March 15th-17th\, Mt Sac\, CA\nU.S. Paralympic Track & Field Team Trials- July 18th-21st \n 
URL:https://glasa.org/event/track-indoor-3-3/
LOCATION:Deerfield High School\, 1959 Waukegan Rd\,\, Deerfield\, IL\, 60015\, United States
CATEGORIES:Track & Field
ATTACH;FMTTYPE=image/jpeg:https://glasa.org/wp-content/uploads/2024/02/Track12.jpg
END:VEVENT
END:VCALENDAR