BEGIN:VCALENDAR
VERSION:2.0
PRODID:-//Great Lakes Adaptive Sports Association – Let no one sit on the sidelines - ECPv6.15.18//NONSGML v1.0//EN
CALSCALE:GREGORIAN
METHOD:PUBLISH
X-ORIGINAL-URL:https://glasa.org
X-WR-CALDESC:Events for Great Lakes Adaptive Sports Association – Let no one sit on the sidelines
REFRESH-INTERVAL;VALUE=DURATION:PT1H
X-Robots-Tag:noindex
X-PUBLISHED-TTL:PT1H
BEGIN:VTIMEZONE
TZID:America/Chicago
BEGIN:DAYLIGHT
TZOFFSETFROM:-0600
TZOFFSETTO:-0500
TZNAME:CDT
DTSTART:20230312T080000
END:DAYLIGHT
BEGIN:STANDARD
TZOFFSETFROM:-0500
TZOFFSETTO:-0600
TZNAME:CST
DTSTART:20231105T070000
END:STANDARD
BEGIN:DAYLIGHT
TZOFFSETFROM:-0600
TZOFFSETTO:-0500
TZNAME:CDT
DTSTART:20240310T080000
END:DAYLIGHT
BEGIN:STANDARD
TZOFFSETFROM:-0500
TZOFFSETTO:-0600
TZNAME:CST
DTSTART:20241103T070000
END:STANDARD
BEGIN:DAYLIGHT
TZOFFSETFROM:-0600
TZOFFSETTO:-0500
TZNAME:CDT
DTSTART:20250309T080000
END:DAYLIGHT
BEGIN:STANDARD
TZOFFSETFROM:-0500
TZOFFSETTO:-0600
TZNAME:CST
DTSTART:20251102T070000
END:STANDARD
BEGIN:DAYLIGHT
TZOFFSETFROM:-0600
TZOFFSETTO:-0500
TZNAME:CDT
DTSTART:20260308T080000
END:DAYLIGHT
BEGIN:STANDARD
TZOFFSETFROM:-0500
TZOFFSETTO:-0600
TZNAME:CST
DTSTART:20261101T070000
END:STANDARD
END:VTIMEZONE
BEGIN:VEVENT
DTSTART;TZID=America/Chicago:20250413T130000
DTEND;TZID=America/Chicago:20250413T170000
DTSTAMP:20260418T174800
CREATED:20250326T174743Z
LAST-MODIFIED:20250326T174743Z
UID:10002962-1744549200-1744563600@glasa.org
SUMMARY:Para Track & Field Clinic
DESCRIPTION:Join Great Lakes Adaptive Sports Association (GLASA) for a Para Track and Field Clinic. This clinic is designed for all skill levels. Beginners will learn more about the program and be introduced to the various track and field events by skilled GLASA Coaches. Other athletes will work on honing their skills and improving performance. GLASA’s Track & Field program is targeted to athletes who are ambulatory and have a physical disability or those who utilize a manual chair.
URL:https://glasa.org/event/para-track-field-clinic/
LOCATION:Carthage College\, 2001 Alford Park Dr.\, Kenosha\, WI\, 53140\, United States
CATEGORIES:Track & Field
ATTACH;FMTTYPE=image/jpeg:https://glasa.org/wp-content/uploads/2024/02/Track22-copy-1.jpg
END:VEVENT
BEGIN:VEVENT
DTSTART;TZID=America/Chicago:20240127T130000
DTEND;TZID=America/Chicago:20240127T170000
DTSTAMP:20260418T174800
CREATED:20231214T040007Z
LAST-MODIFIED:20240109T162346Z
UID:10000721-1706360400-1706374800@glasa.org
SUMMARY:Para Track and Field Clinic
DESCRIPTION:Join Great Lakes Adaptive Sports Association (GLASA) for a Para Track and Field Clinic. This clinic is designed for all skill levels. Beginners will learn more about the program and be introduced to the various track and field events by skilled GLASA Coaches. Other athletes will work on honing their skills and improving performance. GLASA’s Track & Field program is targeted to athletes who are ambulatory and have a physical disability or those who utilize a manual chair. \nSpecial guest appearance by Daniel Romanchuk\, two-time Paralympian\, two-time Paralympic medalist and Paris 2024 Qualifier. \n1:00 – 3:00 pm Beginners & New Athletes\n3:00 – 5:00 pm Experienced Athletes
URL:https://glasa.org/event/intro-to-para-track-and-field-clinic/
LOCATION:Carthage College\, 2001 Alford Park Dr.\, Kenosha\, WI\, 53140\, United States
CATEGORIES:Track & Field
ATTACH;FMTTYPE=image/jpeg:https://glasa.org/wp-content/uploads/2023/12/Will-Sawyer-2023-GLG-1-scaled.jpg
END:VEVENT
END:VCALENDAR