BEGIN:VCALENDAR
VERSION:2.0
PRODID:-//Great Lakes Adaptive Sports Association – Let no one sit on the sidelines - ECPv6.15.18//NONSGML v1.0//EN
CALSCALE:GREGORIAN
METHOD:PUBLISH
X-ORIGINAL-URL:https://glasa.org
X-WR-CALDESC:Events for Great Lakes Adaptive Sports Association – Let no one sit on the sidelines
REFRESH-INTERVAL;VALUE=DURATION:PT1H
X-Robots-Tag:noindex
X-PUBLISHED-TTL:PT1H
BEGIN:VTIMEZONE
TZID:America/Chicago
BEGIN:DAYLIGHT
TZOFFSETFROM:-0600
TZOFFSETTO:-0500
TZNAME:CDT
DTSTART:20230312T080000
END:DAYLIGHT
BEGIN:STANDARD
TZOFFSETFROM:-0500
TZOFFSETTO:-0600
TZNAME:CST
DTSTART:20231105T070000
END:STANDARD
BEGIN:DAYLIGHT
TZOFFSETFROM:-0600
TZOFFSETTO:-0500
TZNAME:CDT
DTSTART:20240310T080000
END:DAYLIGHT
BEGIN:STANDARD
TZOFFSETFROM:-0500
TZOFFSETTO:-0600
TZNAME:CST
DTSTART:20241103T070000
END:STANDARD
BEGIN:DAYLIGHT
TZOFFSETFROM:-0600
TZOFFSETTO:-0500
TZNAME:CDT
DTSTART:20250309T080000
END:DAYLIGHT
BEGIN:STANDARD
TZOFFSETFROM:-0500
TZOFFSETTO:-0600
TZNAME:CST
DTSTART:20251102T070000
END:STANDARD
END:VTIMEZONE
BEGIN:VEVENT
DTSTART;TZID=America/Chicago:20241009T180000
DTEND;TZID=America/Chicago:20241009T210000
DTSTAMP:20260418T181157
CREATED:20240925T175541Z
LAST-MODIFIED:20240925T175542Z
UID:10001881-1728496800-1728507600@glasa.org
SUMMARY:Para Pickleball
DESCRIPTION:Para Pickleball is an inclusive and adaptive version of the popular sport of pickleball\, designed to accommodate players with varying abilities and mobility challenges. Pickleball will take place at Brick House PB in Lake Forest\, IL. Ages 16+. Wheelchair and Ambulatory.
URL:https://glasa.org/event/para-pickleball-4-2/2024-10-09/
LOCATION:Brick House Pickleball\, 28457 Ballard Drive\, Unit H\, Lake Forest\, IL\, 60045\, United States
CATEGORIES:Pickleball
ATTACH;FMTTYPE=image/jpeg:https://glasa.org/wp-content/uploads/2023/11/Emma-Jundt-playing-Pickleball.jpg
END:VEVENT
BEGIN:VEVENT
DTSTART;TZID=America/Chicago:20241002T180000
DTEND;TZID=America/Chicago:20241002T210000
DTSTAMP:20260418T181157
CREATED:20240925T175541Z
LAST-MODIFIED:20240925T175542Z
UID:10001880-1727892000-1727902800@glasa.org
SUMMARY:Para Pickleball
DESCRIPTION:Para Pickleball is an inclusive and adaptive version of the popular sport of pickleball\, designed to accommodate players with varying abilities and mobility challenges. Pickleball will take place at Brick House PB in Lake Forest\, IL. Ages 16+. Wheelchair and Ambulatory.
URL:https://glasa.org/event/para-pickleball-4-2/2024-10-02/
LOCATION:Brick House Pickleball\, 28457 Ballard Drive\, Unit H\, Lake Forest\, IL\, 60045\, United States
CATEGORIES:Pickleball
ATTACH;FMTTYPE=image/jpeg:https://glasa.org/wp-content/uploads/2023/11/Emma-Jundt-playing-Pickleball.jpg
END:VEVENT
BEGIN:VEVENT
DTSTART;TZID=America/Chicago:20240925T180000
DTEND;TZID=America/Chicago:20240925T210000
DTSTAMP:20260418T181157
CREATED:20240804T174637Z
LAST-MODIFIED:20241002T183406Z
UID:10001879-1727287200-1727298000@glasa.org
SUMMARY:Para Pickleball
DESCRIPTION:Para Pickleball is an inclusive and adaptive version of the popular sport of pickleball\, designed to accommodate players with varying abilities and mobility challenges. Pickleball will take place at Brick House PB in Lake Forest\, IL. Ages 16+. Wheelchair and Ambulatory.
URL:https://glasa.org/event/para-pickleball-4/2024-09-25/
LOCATION:Brick House Pickleball\, 28457 Ballard Drive\, Unit H\, Lake Forest\, IL\, 60045\, United States
CATEGORIES:Pickleball
ATTACH;FMTTYPE=image/jpeg:https://glasa.org/wp-content/uploads/2023/11/Emma-Jundt-playing-Pickleball.jpg
END:VEVENT
BEGIN:VEVENT
DTSTART;TZID=America/Chicago:20240918T180000
DTEND;TZID=America/Chicago:20240918T210000
DTSTAMP:20260418T181157
CREATED:20240804T174637Z
LAST-MODIFIED:20241002T183406Z
UID:10001878-1726682400-1726693200@glasa.org
SUMMARY:Para Pickleball
DESCRIPTION:Para Pickleball is an inclusive and adaptive version of the popular sport of pickleball\, designed to accommodate players with varying abilities and mobility challenges. Pickleball will take place at Brick House PB in Lake Forest\, IL. Ages 16+. Wheelchair and Ambulatory.
URL:https://glasa.org/event/para-pickleball-4/2024-09-18/
LOCATION:Brick House Pickleball\, 28457 Ballard Drive\, Unit H\, Lake Forest\, IL\, 60045\, United States
CATEGORIES:Pickleball
ATTACH;FMTTYPE=image/jpeg:https://glasa.org/wp-content/uploads/2023/11/Emma-Jundt-playing-Pickleball.jpg
END:VEVENT
BEGIN:VEVENT
DTSTART;TZID=America/Chicago:20240911T180000
DTEND;TZID=America/Chicago:20240911T210000
DTSTAMP:20260418T181157
CREATED:20240804T174637Z
LAST-MODIFIED:20241002T183406Z
UID:10001877-1726077600-1726088400@glasa.org
SUMMARY:Para Pickleball
DESCRIPTION:Para Pickleball is an inclusive and adaptive version of the popular sport of pickleball\, designed to accommodate players with varying abilities and mobility challenges. Pickleball will take place at Brick House PB in Lake Forest\, IL. Ages 16+. Wheelchair and Ambulatory.
URL:https://glasa.org/event/para-pickleball-4/2024-09-11/
LOCATION:Brick House Pickleball\, 28457 Ballard Drive\, Unit H\, Lake Forest\, IL\, 60045\, United States
CATEGORIES:Pickleball
ATTACH;FMTTYPE=image/jpeg:https://glasa.org/wp-content/uploads/2023/11/Emma-Jundt-playing-Pickleball.jpg
END:VEVENT
BEGIN:VEVENT
DTSTART;TZID=America/Chicago:20240904T180000
DTEND;TZID=America/Chicago:20240904T210000
DTSTAMP:20260418T181157
CREATED:20240804T174637Z
LAST-MODIFIED:20241002T183406Z
UID:10001876-1725472800-1725483600@glasa.org
SUMMARY:Para Pickleball
DESCRIPTION:Para Pickleball is an inclusive and adaptive version of the popular sport of pickleball\, designed to accommodate players with varying abilities and mobility challenges. Pickleball will take place at Brick House PB in Lake Forest\, IL. Ages 16+. Wheelchair and Ambulatory.
URL:https://glasa.org/event/para-pickleball-4/2024-09-04/
LOCATION:Brick House Pickleball\, 28457 Ballard Drive\, Unit H\, Lake Forest\, IL\, 60045\, United States
CATEGORIES:Pickleball
ATTACH;FMTTYPE=image/jpeg:https://glasa.org/wp-content/uploads/2023/11/Emma-Jundt-playing-Pickleball.jpg
END:VEVENT
BEGIN:VEVENT
DTSTART;TZID=America/Chicago:20240828T180000
DTEND;TZID=America/Chicago:20240828T193000
DTSTAMP:20260418T181157
CREATED:20240401T210115Z
LAST-MODIFIED:20240418T190157Z
UID:10001540-1724868000-1724873400@glasa.org
SUMMARY:Para Pickleball
DESCRIPTION:Para Pickleball is an inclusive and adaptive version of the popular sport of pickleball\, designed to accommodate players with varying abilities and mobility challenges. Pickleball will take place from April 3rd to August 28th at Brick House Pickleball in Lake Forest. Ages 16+. Wheelchair and Ambulatory.
URL:https://glasa.org/event/para-pickleball-2/2024-08-28/
LOCATION:Brick House Pickleball\, 28457 Ballard Drive\, Unit H\, Lake Forest\, IL\, 60045\, United States
CATEGORIES:Pickleball
ATTACH;FMTTYPE=image/jpeg:https://glasa.org/wp-content/uploads/2023/11/Emma-Jundt-playing-Pickleball.jpg
END:VEVENT
BEGIN:VEVENT
DTSTART;TZID=America/Chicago:20240821T180000
DTEND;TZID=America/Chicago:20240821T193000
DTSTAMP:20260418T181157
CREATED:20240401T210115Z
LAST-MODIFIED:20240418T190157Z
UID:10001539-1724263200-1724268600@glasa.org
SUMMARY:Para Pickleball
DESCRIPTION:Para Pickleball is an inclusive and adaptive version of the popular sport of pickleball\, designed to accommodate players with varying abilities and mobility challenges. Pickleball will take place from April 3rd to August 28th at Brick House Pickleball in Lake Forest. Ages 16+. Wheelchair and Ambulatory.
URL:https://glasa.org/event/para-pickleball-2/2024-08-21/
LOCATION:Brick House Pickleball\, 28457 Ballard Drive\, Unit H\, Lake Forest\, IL\, 60045\, United States
CATEGORIES:Pickleball
ATTACH;FMTTYPE=image/jpeg:https://glasa.org/wp-content/uploads/2023/11/Emma-Jundt-playing-Pickleball.jpg
END:VEVENT
BEGIN:VEVENT
DTSTART;TZID=America/Chicago:20240814T180000
DTEND;TZID=America/Chicago:20240814T193000
DTSTAMP:20260418T181158
CREATED:20240401T210115Z
LAST-MODIFIED:20240418T190157Z
UID:10001538-1723658400-1723663800@glasa.org
SUMMARY:Para Pickleball
DESCRIPTION:Para Pickleball is an inclusive and adaptive version of the popular sport of pickleball\, designed to accommodate players with varying abilities and mobility challenges. Pickleball will take place from April 3rd to August 28th at Brick House Pickleball in Lake Forest. Ages 16+. Wheelchair and Ambulatory.
URL:https://glasa.org/event/para-pickleball-2/2024-08-14/
LOCATION:Brick House Pickleball\, 28457 Ballard Drive\, Unit H\, Lake Forest\, IL\, 60045\, United States
CATEGORIES:Pickleball
ATTACH;FMTTYPE=image/jpeg:https://glasa.org/wp-content/uploads/2023/11/Emma-Jundt-playing-Pickleball.jpg
END:VEVENT
BEGIN:VEVENT
DTSTART;TZID=America/Chicago:20240807T180000
DTEND;TZID=America/Chicago:20240807T193000
DTSTAMP:20260418T181158
CREATED:20240401T210115Z
LAST-MODIFIED:20240418T190157Z
UID:10001537-1723053600-1723059000@glasa.org
SUMMARY:Para Pickleball
DESCRIPTION:Para Pickleball is an inclusive and adaptive version of the popular sport of pickleball\, designed to accommodate players with varying abilities and mobility challenges. Pickleball will take place from April 3rd to August 28th at Brick House Pickleball in Lake Forest. Ages 16+. Wheelchair and Ambulatory.
URL:https://glasa.org/event/para-pickleball-2/2024-08-07/
LOCATION:Brick House Pickleball\, 28457 Ballard Drive\, Unit H\, Lake Forest\, IL\, 60045\, United States
CATEGORIES:Pickleball
ATTACH;FMTTYPE=image/jpeg:https://glasa.org/wp-content/uploads/2023/11/Emma-Jundt-playing-Pickleball.jpg
END:VEVENT
BEGIN:VEVENT
DTSTART;TZID=America/Chicago:20240731T180000
DTEND;TZID=America/Chicago:20240731T193000
DTSTAMP:20260418T181158
CREATED:20240401T210115Z
LAST-MODIFIED:20240418T190157Z
UID:10001536-1722448800-1722454200@glasa.org
SUMMARY:Para Pickleball
DESCRIPTION:Para Pickleball is an inclusive and adaptive version of the popular sport of pickleball\, designed to accommodate players with varying abilities and mobility challenges. Pickleball will take place from April 3rd to August 28th at Brick House Pickleball in Lake Forest. Ages 16+. Wheelchair and Ambulatory.
URL:https://glasa.org/event/para-pickleball-2/2024-07-31/
LOCATION:Brick House Pickleball\, 28457 Ballard Drive\, Unit H\, Lake Forest\, IL\, 60045\, United States
CATEGORIES:Pickleball
ATTACH;FMTTYPE=image/jpeg:https://glasa.org/wp-content/uploads/2023/11/Emma-Jundt-playing-Pickleball.jpg
END:VEVENT
BEGIN:VEVENT
DTSTART;TZID=America/Chicago:20240724T180000
DTEND;TZID=America/Chicago:20240724T193000
DTSTAMP:20260418T181158
CREATED:20240401T210115Z
LAST-MODIFIED:20240418T190157Z
UID:10001535-1721844000-1721849400@glasa.org
SUMMARY:Para Pickleball
DESCRIPTION:Para Pickleball is an inclusive and adaptive version of the popular sport of pickleball\, designed to accommodate players with varying abilities and mobility challenges. Pickleball will take place from April 3rd to August 28th at Brick House Pickleball in Lake Forest. Ages 16+. Wheelchair and Ambulatory.
URL:https://glasa.org/event/para-pickleball-2/2024-07-24/
LOCATION:Brick House Pickleball\, 28457 Ballard Drive\, Unit H\, Lake Forest\, IL\, 60045\, United States
CATEGORIES:Pickleball
ATTACH;FMTTYPE=image/jpeg:https://glasa.org/wp-content/uploads/2023/11/Emma-Jundt-playing-Pickleball.jpg
END:VEVENT
BEGIN:VEVENT
DTSTART;TZID=America/Chicago:20240717T180000
DTEND;TZID=America/Chicago:20240717T193000
DTSTAMP:20260418T181158
CREATED:20240401T210115Z
LAST-MODIFIED:20240418T190157Z
UID:10001534-1721239200-1721244600@glasa.org
SUMMARY:Para Pickleball
DESCRIPTION:Para Pickleball is an inclusive and adaptive version of the popular sport of pickleball\, designed to accommodate players with varying abilities and mobility challenges. Pickleball will take place from April 3rd to August 28th at Brick House Pickleball in Lake Forest. Ages 16+. Wheelchair and Ambulatory.
URL:https://glasa.org/event/para-pickleball-2/2024-07-17/
LOCATION:Brick House Pickleball\, 28457 Ballard Drive\, Unit H\, Lake Forest\, IL\, 60045\, United States
CATEGORIES:Pickleball
ATTACH;FMTTYPE=image/jpeg:https://glasa.org/wp-content/uploads/2023/11/Emma-Jundt-playing-Pickleball.jpg
END:VEVENT
BEGIN:VEVENT
DTSTART;TZID=America/Chicago:20240710T180000
DTEND;TZID=America/Chicago:20240710T193000
DTSTAMP:20260418T181158
CREATED:20240401T210115Z
LAST-MODIFIED:20240418T190157Z
UID:10001533-1720634400-1720639800@glasa.org
SUMMARY:Para Pickleball
DESCRIPTION:Para Pickleball is an inclusive and adaptive version of the popular sport of pickleball\, designed to accommodate players with varying abilities and mobility challenges. Pickleball will take place from April 3rd to August 28th at Brick House Pickleball in Lake Forest. Ages 16+. Wheelchair and Ambulatory.
URL:https://glasa.org/event/para-pickleball-2/2024-07-10/
LOCATION:Brick House Pickleball\, 28457 Ballard Drive\, Unit H\, Lake Forest\, IL\, 60045\, United States
CATEGORIES:Pickleball
ATTACH;FMTTYPE=image/jpeg:https://glasa.org/wp-content/uploads/2023/11/Emma-Jundt-playing-Pickleball.jpg
END:VEVENT
BEGIN:VEVENT
DTSTART;TZID=America/Chicago:20240703T180000
DTEND;TZID=America/Chicago:20240703T193000
DTSTAMP:20260418T181158
CREATED:20240702T203022Z
LAST-MODIFIED:20240702T203023Z
UID:10001532-1720029600-1720035000@glasa.org
SUMMARY:Para Pickleball
DESCRIPTION:Para Pickleball is an inclusive and adaptive version of the popular sport of pickleball\, designed to accommodate players with varying abilities and mobility challenges. Pickleball will take place from April 3rd to August 28th at Brick House Pickleball in Lake Forest. Ages 16+. Wheelchair and Ambulatory.
URL:https://glasa.org/event/para-pickleball-2-3/
LOCATION:Brick House Pickleball\, 28457 Ballard Drive\, Unit H\, Lake Forest\, IL\, 60045\, United States
CATEGORIES:Pickleball
ATTACH;FMTTYPE=image/jpeg:https://glasa.org/wp-content/uploads/2023/11/Emma-Jundt-playing-Pickleball.jpg
END:VEVENT
BEGIN:VEVENT
DTSTART;TZID=America/Chicago:20240626T180000
DTEND;TZID=America/Chicago:20240626T193000
DTSTAMP:20260418T181158
CREATED:20240401T210115Z
LAST-MODIFIED:20240418T190157Z
UID:10001531-1719424800-1719430200@glasa.org
SUMMARY:Para Pickleball
DESCRIPTION:Para Pickleball is an inclusive and adaptive version of the popular sport of pickleball\, designed to accommodate players with varying abilities and mobility challenges. Pickleball will take place from April 3rd to August 28th at Brick House Pickleball in Lake Forest. Ages 16+. Wheelchair and Ambulatory.
URL:https://glasa.org/event/para-pickleball-2/2024-06-26/
LOCATION:Brick House Pickleball\, 28457 Ballard Drive\, Unit H\, Lake Forest\, IL\, 60045\, United States
CATEGORIES:Pickleball
ATTACH;FMTTYPE=image/jpeg:https://glasa.org/wp-content/uploads/2023/11/Emma-Jundt-playing-Pickleball.jpg
END:VEVENT
BEGIN:VEVENT
DTSTART;TZID=America/Chicago:20240619T180000
DTEND;TZID=America/Chicago:20240619T193000
DTSTAMP:20260418T181158
CREATED:20240401T210115Z
LAST-MODIFIED:20240418T190157Z
UID:10001530-1718820000-1718825400@glasa.org
SUMMARY:Para Pickleball
DESCRIPTION:Para Pickleball is an inclusive and adaptive version of the popular sport of pickleball\, designed to accommodate players with varying abilities and mobility challenges. Pickleball will take place from April 3rd to August 28th at Brick House Pickleball in Lake Forest. Ages 16+. Wheelchair and Ambulatory.
URL:https://glasa.org/event/para-pickleball-2/2024-06-19/
LOCATION:Brick House Pickleball\, 28457 Ballard Drive\, Unit H\, Lake Forest\, IL\, 60045\, United States
CATEGORIES:Pickleball
ATTACH;FMTTYPE=image/jpeg:https://glasa.org/wp-content/uploads/2023/11/Emma-Jundt-playing-Pickleball.jpg
END:VEVENT
BEGIN:VEVENT
DTSTART;TZID=America/Chicago:20240612T180000
DTEND;TZID=America/Chicago:20240612T193000
DTSTAMP:20260418T181158
CREATED:20240605T170957Z
LAST-MODIFIED:20240605T171439Z
UID:10001529-1718215200-1718220600@glasa.org
SUMMARY:Para Pickleball
DESCRIPTION:Para Pickleball is an inclusive and adaptive version of the popular sport of pickleball\, designed to accommodate players with varying abilities and mobility challenges. Pickleball will take place from April 3rd to August 28th at Brick House Pickleball in Lake Forest. Ages 16+. Wheelchair and Ambulatory.
URL:https://glasa.org/event/para-pickleball-2-2/
LOCATION:Brick House Pickleball\, 28457 Ballard Drive\, Unit H\, Lake Forest\, IL\, 60045\, United States
CATEGORIES:Pickleball
ATTACH;FMTTYPE=image/jpeg:https://glasa.org/wp-content/uploads/2023/11/Emma-Jundt-playing-Pickleball.jpg
END:VEVENT
BEGIN:VEVENT
DTSTART;TZID=America/Chicago:20240605T180000
DTEND;TZID=America/Chicago:20240605T193000
DTSTAMP:20260418T181158
CREATED:20240401T210115Z
LAST-MODIFIED:20240418T190157Z
UID:10001528-1717610400-1717615800@glasa.org
SUMMARY:Para Pickleball
DESCRIPTION:Para Pickleball is an inclusive and adaptive version of the popular sport of pickleball\, designed to accommodate players with varying abilities and mobility challenges. Pickleball will take place from April 3rd to August 28th at Brick House Pickleball in Lake Forest. Ages 16+. Wheelchair and Ambulatory.
URL:https://glasa.org/event/para-pickleball-2/2024-06-05/
LOCATION:Brick House Pickleball\, 28457 Ballard Drive\, Unit H\, Lake Forest\, IL\, 60045\, United States
CATEGORIES:Pickleball
ATTACH;FMTTYPE=image/jpeg:https://glasa.org/wp-content/uploads/2023/11/Emma-Jundt-playing-Pickleball.jpg
END:VEVENT
BEGIN:VEVENT
DTSTART;TZID=America/Chicago:20240529T180000
DTEND;TZID=America/Chicago:20240529T193000
DTSTAMP:20260418T181158
CREATED:20240401T210115Z
LAST-MODIFIED:20240418T190157Z
UID:10001527-1717005600-1717011000@glasa.org
SUMMARY:Para Pickleball
DESCRIPTION:Para Pickleball is an inclusive and adaptive version of the popular sport of pickleball\, designed to accommodate players with varying abilities and mobility challenges. Pickleball will take place from April 3rd to August 28th at Brick House Pickleball in Lake Forest. Ages 16+. Wheelchair and Ambulatory.
URL:https://glasa.org/event/para-pickleball-2/2024-05-29/
LOCATION:Brick House Pickleball\, 28457 Ballard Drive\, Unit H\, Lake Forest\, IL\, 60045\, United States
CATEGORIES:Pickleball
ATTACH;FMTTYPE=image/jpeg:https://glasa.org/wp-content/uploads/2023/11/Emma-Jundt-playing-Pickleball.jpg
END:VEVENT
BEGIN:VEVENT
DTSTART;TZID=America/Chicago:20240522T180000
DTEND;TZID=America/Chicago:20240522T193000
DTSTAMP:20260418T181158
CREATED:20240401T205225Z
LAST-MODIFIED:20240401T210235Z
UID:10001473-1716400800-1716406200@glasa.org
SUMMARY:Para Pickleball
DESCRIPTION:Para Pickleball is an inclusive and adaptive version of the popular sport of pickleball\, designed to accommodate players with varying abilities and mobility challenges. Indoor Pickleball will take place from April 3rd to May 22nd at Brick House Pickleball in Lake Forest. Outdoor will be May 29th – August 28th at Keith Minone Community Park Tennis Courts in Mundelein. Ages 16+. Wheelchair and Ambulatory.
URL:https://glasa.org/event/para-pickleball/2024-05-22/
LOCATION:Brick House Pickleball\, 28457 Ballard Drive\, Unit H\, Lake Forest\, IL\, 60045\, United States
CATEGORIES:Pickleball
ATTACH;FMTTYPE=image/jpeg:https://glasa.org/wp-content/uploads/2023/11/Emma-Jundt-playing-Pickleball.jpg
END:VEVENT
BEGIN:VEVENT
DTSTART;TZID=America/Chicago:20240515T180000
DTEND;TZID=America/Chicago:20240515T193000
DTSTAMP:20260418T181158
CREATED:20240401T205225Z
LAST-MODIFIED:20240401T210235Z
UID:10001472-1715796000-1715801400@glasa.org
SUMMARY:Para Pickleball
DESCRIPTION:Para Pickleball is an inclusive and adaptive version of the popular sport of pickleball\, designed to accommodate players with varying abilities and mobility challenges. Indoor Pickleball will take place from April 3rd to May 22nd at Brick House Pickleball in Lake Forest. Outdoor will be May 29th – August 28th at Keith Minone Community Park Tennis Courts in Mundelein. Ages 16+. Wheelchair and Ambulatory.
URL:https://glasa.org/event/para-pickleball/2024-05-15/
LOCATION:Brick House Pickleball\, 28457 Ballard Drive\, Unit H\, Lake Forest\, IL\, 60045\, United States
CATEGORIES:Pickleball
ATTACH;FMTTYPE=image/jpeg:https://glasa.org/wp-content/uploads/2023/11/Emma-Jundt-playing-Pickleball.jpg
END:VEVENT
BEGIN:VEVENT
DTSTART;TZID=America/Chicago:20240508T180000
DTEND;TZID=America/Chicago:20240508T193000
DTSTAMP:20260418T181158
CREATED:20240401T205225Z
LAST-MODIFIED:20240401T210235Z
UID:10001471-1715191200-1715196600@glasa.org
SUMMARY:Para Pickleball
DESCRIPTION:Para Pickleball is an inclusive and adaptive version of the popular sport of pickleball\, designed to accommodate players with varying abilities and mobility challenges. Indoor Pickleball will take place from April 3rd to May 22nd at Brick House Pickleball in Lake Forest. Outdoor will be May 29th – August 28th at Keith Minone Community Park Tennis Courts in Mundelein. Ages 16+. Wheelchair and Ambulatory.
URL:https://glasa.org/event/para-pickleball/2024-05-08/
LOCATION:Brick House Pickleball\, 28457 Ballard Drive\, Unit H\, Lake Forest\, IL\, 60045\, United States
CATEGORIES:Pickleball
ATTACH;FMTTYPE=image/jpeg:https://glasa.org/wp-content/uploads/2023/11/Emma-Jundt-playing-Pickleball.jpg
END:VEVENT
BEGIN:VEVENT
DTSTART;TZID=America/Chicago:20240501T180000
DTEND;TZID=America/Chicago:20240501T193000
DTSTAMP:20260418T181158
CREATED:20240401T205225Z
LAST-MODIFIED:20240401T210235Z
UID:10001470-1714586400-1714591800@glasa.org
SUMMARY:Para Pickleball
DESCRIPTION:Para Pickleball is an inclusive and adaptive version of the popular sport of pickleball\, designed to accommodate players with varying abilities and mobility challenges. Indoor Pickleball will take place from April 3rd to May 22nd at Brick House Pickleball in Lake Forest. Outdoor will be May 29th – August 28th at Keith Minone Community Park Tennis Courts in Mundelein. Ages 16+. Wheelchair and Ambulatory.
URL:https://glasa.org/event/para-pickleball/2024-05-01/
LOCATION:Brick House Pickleball\, 28457 Ballard Drive\, Unit H\, Lake Forest\, IL\, 60045\, United States
CATEGORIES:Pickleball
ATTACH;FMTTYPE=image/jpeg:https://glasa.org/wp-content/uploads/2023/11/Emma-Jundt-playing-Pickleball.jpg
END:VEVENT
BEGIN:VEVENT
DTSTART;TZID=America/Chicago:20240424T180000
DTEND;TZID=America/Chicago:20240424T193000
DTSTAMP:20260418T181158
CREATED:20240401T205225Z
LAST-MODIFIED:20240401T210235Z
UID:10001469-1713981600-1713987000@glasa.org
SUMMARY:Para Pickleball
DESCRIPTION:Para Pickleball is an inclusive and adaptive version of the popular sport of pickleball\, designed to accommodate players with varying abilities and mobility challenges. Indoor Pickleball will take place from April 3rd to May 22nd at Brick House Pickleball in Lake Forest. Outdoor will be May 29th – August 28th at Keith Minone Community Park Tennis Courts in Mundelein. Ages 16+. Wheelchair and Ambulatory.
URL:https://glasa.org/event/para-pickleball/2024-04-24/
LOCATION:Brick House Pickleball\, 28457 Ballard Drive\, Unit H\, Lake Forest\, IL\, 60045\, United States
CATEGORIES:Pickleball
ATTACH;FMTTYPE=image/jpeg:https://glasa.org/wp-content/uploads/2023/11/Emma-Jundt-playing-Pickleball.jpg
END:VEVENT
BEGIN:VEVENT
DTSTART;TZID=America/Chicago:20240417T180000
DTEND;TZID=America/Chicago:20240417T193000
DTSTAMP:20260418T181158
CREATED:20240401T205225Z
LAST-MODIFIED:20240401T210235Z
UID:10001468-1713376800-1713382200@glasa.org
SUMMARY:Para Pickleball
DESCRIPTION:Para Pickleball is an inclusive and adaptive version of the popular sport of pickleball\, designed to accommodate players with varying abilities and mobility challenges. Indoor Pickleball will take place from April 3rd to May 22nd at Brick House Pickleball in Lake Forest. Outdoor will be May 29th – August 28th at Keith Minone Community Park Tennis Courts in Mundelein. Ages 16+. Wheelchair and Ambulatory.
URL:https://glasa.org/event/para-pickleball/2024-04-17/
LOCATION:Brick House Pickleball\, 28457 Ballard Drive\, Unit H\, Lake Forest\, IL\, 60045\, United States
CATEGORIES:Pickleball
ATTACH;FMTTYPE=image/jpeg:https://glasa.org/wp-content/uploads/2023/11/Emma-Jundt-playing-Pickleball.jpg
END:VEVENT
BEGIN:VEVENT
DTSTART;TZID=America/Chicago:20240410T180000
DTEND;TZID=America/Chicago:20240410T193000
DTSTAMP:20260418T181158
CREATED:20240401T205225Z
LAST-MODIFIED:20240401T210235Z
UID:10001467-1712772000-1712777400@glasa.org
SUMMARY:Para Pickleball
DESCRIPTION:Para Pickleball is an inclusive and adaptive version of the popular sport of pickleball\, designed to accommodate players with varying abilities and mobility challenges. Indoor Pickleball will take place from April 3rd to May 22nd at Brick House Pickleball in Lake Forest. Outdoor will be May 29th – August 28th at Keith Minone Community Park Tennis Courts in Mundelein. Ages 16+. Wheelchair and Ambulatory.
URL:https://glasa.org/event/para-pickleball/2024-04-10/
LOCATION:Brick House Pickleball\, 28457 Ballard Drive\, Unit H\, Lake Forest\, IL\, 60045\, United States
CATEGORIES:Pickleball
ATTACH;FMTTYPE=image/jpeg:https://glasa.org/wp-content/uploads/2023/11/Emma-Jundt-playing-Pickleball.jpg
END:VEVENT
BEGIN:VEVENT
DTSTART;TZID=America/Chicago:20240403T180000
DTEND;TZID=America/Chicago:20240403T193000
DTSTAMP:20260418T181158
CREATED:20240401T205225Z
LAST-MODIFIED:20240401T210235Z
UID:10001466-1712167200-1712172600@glasa.org
SUMMARY:Para Pickleball
DESCRIPTION:Para Pickleball is an inclusive and adaptive version of the popular sport of pickleball\, designed to accommodate players with varying abilities and mobility challenges. Indoor Pickleball will take place from April 3rd to May 22nd at Brick House Pickleball in Lake Forest. Outdoor will be May 29th – August 28th at Keith Minone Community Park Tennis Courts in Mundelein. Ages 16+. Wheelchair and Ambulatory.
URL:https://glasa.org/event/para-pickleball/2024-04-03/
LOCATION:Brick House Pickleball\, 28457 Ballard Drive\, Unit H\, Lake Forest\, IL\, 60045\, United States
CATEGORIES:Pickleball
ATTACH;FMTTYPE=image/jpeg:https://glasa.org/wp-content/uploads/2023/11/Emma-Jundt-playing-Pickleball.jpg
END:VEVENT
END:VCALENDAR