BEGIN:VCALENDAR
VERSION:2.0
PRODID:-//Great Lakes Adaptive Sports Association – Let no one sit on the sidelines - ECPv6.15.18//NONSGML v1.0//EN
CALSCALE:GREGORIAN
METHOD:PUBLISH
X-WR-CALNAME:Great Lakes Adaptive Sports Association – Let no one sit on the sidelines
X-ORIGINAL-URL:https://glasa.org
X-WR-CALDESC:Events for Great Lakes Adaptive Sports Association – Let no one sit on the sidelines
REFRESH-INTERVAL;VALUE=DURATION:PT1H
X-Robots-Tag:noindex
X-PUBLISHED-TTL:PT1H
BEGIN:VTIMEZONE
TZID:America/Chicago
BEGIN:DAYLIGHT
TZOFFSETFROM:-0600
TZOFFSETTO:-0500
TZNAME:CDT
DTSTART:20250309T080000
END:DAYLIGHT
BEGIN:STANDARD
TZOFFSETFROM:-0500
TZOFFSETTO:-0600
TZNAME:CST
DTSTART:20251102T070000
END:STANDARD
BEGIN:DAYLIGHT
TZOFFSETFROM:-0600
TZOFFSETTO:-0500
TZNAME:CDT
DTSTART:20260308T080000
END:DAYLIGHT
BEGIN:STANDARD
TZOFFSETFROM:-0500
TZOFFSETTO:-0600
TZNAME:CST
DTSTART:20261101T070000
END:STANDARD
BEGIN:DAYLIGHT
TZOFFSETFROM:-0600
TZOFFSETTO:-0500
TZNAME:CDT
DTSTART:20270314T080000
END:DAYLIGHT
BEGIN:STANDARD
TZOFFSETFROM:-0500
TZOFFSETTO:-0600
TZNAME:CST
DTSTART:20271107T070000
END:STANDARD
END:VTIMEZONE
BEGIN:VEVENT
DTSTART;TZID=America/Chicago:20260423T110000
DTEND;TZID=America/Chicago:20260423T130000
DTSTAMP:20260422T060042
CREATED:20251210T203619Z
LAST-MODIFIED:20251210T203619Z
UID:10003745-1776942000-1776949200@glasa.org
SUMMARY:Shooting
DESCRIPTION:You will gain practical skills in the art of shooting and marksmanship at GLASA’s Shooting (Air Rifle) program. GLASA provides all the rifles\, targets\, tables\, chairs\, and pellets. Stands are provided for those who are unable to hold up the rifle. Teen & Adult (Ages 13+) Wheelchair & Ambulatory \nPlease check the calendar in SportsPlus for the most up-to-date schedule.
URL:https://glasa.org/event/shooting/2026-04-23/
CATEGORIES:Shooting
ATTACH;FMTTYPE=image/jpeg:https://glasa.org/wp-content/uploads/2023/07/Sport-_0000_Shooting.jpg
END:VEVENT
BEGIN:VEVENT
DTSTART;TZID=America/Chicago:20260430T110000
DTEND;TZID=America/Chicago:20260430T130000
DTSTAMP:20260422T060042
CREATED:20251210T203619Z
LAST-MODIFIED:20251210T203619Z
UID:10003746-1777546800-1777554000@glasa.org
SUMMARY:Shooting
DESCRIPTION:You will gain practical skills in the art of shooting and marksmanship at GLASA’s Shooting (Air Rifle) program. GLASA provides all the rifles\, targets\, tables\, chairs\, and pellets. Stands are provided for those who are unable to hold up the rifle. Teen & Adult (Ages 13+) Wheelchair & Ambulatory \nPlease check the calendar in SportsPlus for the most up-to-date schedule.
URL:https://glasa.org/event/shooting/2026-04-30/
CATEGORIES:Shooting
ATTACH;FMTTYPE=image/jpeg:https://glasa.org/wp-content/uploads/2023/07/Sport-_0000_Shooting.jpg
END:VEVENT
BEGIN:VEVENT
DTSTART;TZID=America/Chicago:20260507T110000
DTEND;TZID=America/Chicago:20260507T130000
DTSTAMP:20260422T060042
CREATED:20251210T203619Z
LAST-MODIFIED:20251210T203619Z
UID:10003747-1778151600-1778158800@glasa.org
SUMMARY:Shooting
DESCRIPTION:You will gain practical skills in the art of shooting and marksmanship at GLASA’s Shooting (Air Rifle) program. GLASA provides all the rifles\, targets\, tables\, chairs\, and pellets. Stands are provided for those who are unable to hold up the rifle. Teen & Adult (Ages 13+) Wheelchair & Ambulatory \nPlease check the calendar in SportsPlus for the most up-to-date schedule.
URL:https://glasa.org/event/shooting/2026-05-07/
CATEGORIES:Shooting
ATTACH;FMTTYPE=image/jpeg:https://glasa.org/wp-content/uploads/2023/07/Sport-_0000_Shooting.jpg
END:VEVENT
BEGIN:VEVENT
DTSTART;TZID=America/Chicago:20260514T110000
DTEND;TZID=America/Chicago:20260514T130000
DTSTAMP:20260422T060042
CREATED:20251210T203619Z
LAST-MODIFIED:20251210T203619Z
UID:10003748-1778756400-1778763600@glasa.org
SUMMARY:Shooting
DESCRIPTION:You will gain practical skills in the art of shooting and marksmanship at GLASA’s Shooting (Air Rifle) program. GLASA provides all the rifles\, targets\, tables\, chairs\, and pellets. Stands are provided for those who are unable to hold up the rifle. Teen & Adult (Ages 13+) Wheelchair & Ambulatory \nPlease check the calendar in SportsPlus for the most up-to-date schedule.
URL:https://glasa.org/event/shooting/2026-05-14/
CATEGORIES:Shooting
ATTACH;FMTTYPE=image/jpeg:https://glasa.org/wp-content/uploads/2023/07/Sport-_0000_Shooting.jpg
END:VEVENT
BEGIN:VEVENT
DTSTART;TZID=America/Chicago:20260521T110000
DTEND;TZID=America/Chicago:20260521T130000
DTSTAMP:20260422T060042
CREATED:20251210T203619Z
LAST-MODIFIED:20251210T203619Z
UID:10003749-1779361200-1779368400@glasa.org
SUMMARY:Shooting
DESCRIPTION:You will gain practical skills in the art of shooting and marksmanship at GLASA’s Shooting (Air Rifle) program. GLASA provides all the rifles\, targets\, tables\, chairs\, and pellets. Stands are provided for those who are unable to hold up the rifle. Teen & Adult (Ages 13+) Wheelchair & Ambulatory \nPlease check the calendar in SportsPlus for the most up-to-date schedule.
URL:https://glasa.org/event/shooting/2026-05-21/
CATEGORIES:Shooting
ATTACH;FMTTYPE=image/jpeg:https://glasa.org/wp-content/uploads/2023/07/Sport-_0000_Shooting.jpg
END:VEVENT
BEGIN:VEVENT
DTSTART;TZID=America/Chicago:20260528T110000
DTEND;TZID=America/Chicago:20260528T130000
DTSTAMP:20260422T060042
CREATED:20251210T203619Z
LAST-MODIFIED:20251210T203619Z
UID:10003750-1779966000-1779973200@glasa.org
SUMMARY:Shooting
DESCRIPTION:You will gain practical skills in the art of shooting and marksmanship at GLASA’s Shooting (Air Rifle) program. GLASA provides all the rifles\, targets\, tables\, chairs\, and pellets. Stands are provided for those who are unable to hold up the rifle. Teen & Adult (Ages 13+) Wheelchair & Ambulatory \nPlease check the calendar in SportsPlus for the most up-to-date schedule.
URL:https://glasa.org/event/shooting/2026-05-28/
CATEGORIES:Shooting
ATTACH;FMTTYPE=image/jpeg:https://glasa.org/wp-content/uploads/2023/07/Sport-_0000_Shooting.jpg
END:VEVENT
END:VCALENDAR