BEGIN:VCALENDAR
VERSION:2.0
PRODID:-//Great Lakes Adaptive Sports Association – Let no one sit on the sidelines - ECPv6.15.18//NONSGML v1.0//EN
CALSCALE:GREGORIAN
METHOD:PUBLISH
X-WR-CALNAME:Great Lakes Adaptive Sports Association – Let no one sit on the sidelines
X-ORIGINAL-URL:https://glasa.org
X-WR-CALDESC:Events for Great Lakes Adaptive Sports Association – Let no one sit on the sidelines
REFRESH-INTERVAL;VALUE=DURATION:PT1H
X-Robots-Tag:noindex
X-PUBLISHED-TTL:PT1H
BEGIN:VTIMEZONE
TZID:America/Chicago
BEGIN:DAYLIGHT
TZOFFSETFROM:-0600
TZOFFSETTO:-0500
TZNAME:CDT
DTSTART:20250309T080000
END:DAYLIGHT
BEGIN:STANDARD
TZOFFSETFROM:-0500
TZOFFSETTO:-0600
TZNAME:CST
DTSTART:20251102T070000
END:STANDARD
BEGIN:DAYLIGHT
TZOFFSETFROM:-0600
TZOFFSETTO:-0500
TZNAME:CDT
DTSTART:20260308T080000
END:DAYLIGHT
BEGIN:STANDARD
TZOFFSETFROM:-0500
TZOFFSETTO:-0600
TZNAME:CST
DTSTART:20261101T070000
END:STANDARD
BEGIN:DAYLIGHT
TZOFFSETFROM:-0600
TZOFFSETTO:-0500
TZNAME:CDT
DTSTART:20270314T080000
END:DAYLIGHT
BEGIN:STANDARD
TZOFFSETFROM:-0500
TZOFFSETTO:-0600
TZNAME:CST
DTSTART:20271107T070000
END:STANDARD
END:VTIMEZONE
BEGIN:VEVENT
DTSTART;TZID=America/Chicago:20260427T180000
DTEND;TZID=America/Chicago:20260427T190000
DTSTAMP:20260422T052635
CREATED:20251204T201211Z
LAST-MODIFIED:20260316T212206Z
UID:10003684-1777312800-1777316400@glasa.org
SUMMARY:Roller Workout (Virtual)
DESCRIPTION:The roller workouts provide a variety of pushes to enhance speed\, cardio\, and endurance for the beginner to the competitive racer. Contact chousner@glasa.org if you need a roller. \nTeen & Adult; Wheelchair only \nPlease check the calendar in SportsPlus for the most up-to-date schedule. The link to join the Zoom session is listed under “Resources” in the Roller Workouts Team page in SportsPlus.
URL:https://glasa.org/event/roller-workouts/2026-04-27/
CATEGORIES:Marathon,Virtual Programs
ATTACH;FMTTYPE=image/jpeg:https://glasa.org/wp-content/uploads/2024/01/Racers19-copy.jpg
END:VEVENT
BEGIN:VEVENT
DTSTART;TZID=America/Chicago:20260504T180000
DTEND;TZID=America/Chicago:20260504T190000
DTSTAMP:20260422T052635
CREATED:20251204T201211Z
LAST-MODIFIED:20260316T212206Z
UID:10003685-1777917600-1777921200@glasa.org
SUMMARY:Roller Workout (Virtual)
DESCRIPTION:The roller workouts provide a variety of pushes to enhance speed\, cardio\, and endurance for the beginner to the competitive racer. Contact chousner@glasa.org if you need a roller. \nTeen & Adult; Wheelchair only \nPlease check the calendar in SportsPlus for the most up-to-date schedule. The link to join the Zoom session is listed under “Resources” in the Roller Workouts Team page in SportsPlus.
URL:https://glasa.org/event/roller-workouts/2026-05-04/
CATEGORIES:Marathon,Virtual Programs
ATTACH;FMTTYPE=image/jpeg:https://glasa.org/wp-content/uploads/2024/01/Racers19-copy.jpg
END:VEVENT
BEGIN:VEVENT
DTSTART;TZID=America/Chicago:20260511T180000
DTEND;TZID=America/Chicago:20260511T190000
DTSTAMP:20260422T052635
CREATED:20251204T201211Z
LAST-MODIFIED:20260316T212206Z
UID:10003686-1778522400-1778526000@glasa.org
SUMMARY:Roller Workout (Virtual)
DESCRIPTION:The roller workouts provide a variety of pushes to enhance speed\, cardio\, and endurance for the beginner to the competitive racer. Contact chousner@glasa.org if you need a roller. \nTeen & Adult; Wheelchair only \nPlease check the calendar in SportsPlus for the most up-to-date schedule. The link to join the Zoom session is listed under “Resources” in the Roller Workouts Team page in SportsPlus.
URL:https://glasa.org/event/roller-workouts/2026-05-11/
CATEGORIES:Marathon,Virtual Programs
ATTACH;FMTTYPE=image/jpeg:https://glasa.org/wp-content/uploads/2024/01/Racers19-copy.jpg
END:VEVENT
BEGIN:VEVENT
DTSTART;TZID=America/Chicago:20260518T180000
DTEND;TZID=America/Chicago:20260518T190000
DTSTAMP:20260422T052635
CREATED:20251204T201211Z
LAST-MODIFIED:20260316T212206Z
UID:10003687-1779127200-1779130800@glasa.org
SUMMARY:Roller Workout (Virtual)
DESCRIPTION:The roller workouts provide a variety of pushes to enhance speed\, cardio\, and endurance for the beginner to the competitive racer. Contact chousner@glasa.org if you need a roller. \nTeen & Adult; Wheelchair only \nPlease check the calendar in SportsPlus for the most up-to-date schedule. The link to join the Zoom session is listed under “Resources” in the Roller Workouts Team page in SportsPlus.
URL:https://glasa.org/event/roller-workouts/2026-05-18/
CATEGORIES:Marathon,Virtual Programs
ATTACH;FMTTYPE=image/jpeg:https://glasa.org/wp-content/uploads/2024/01/Racers19-copy.jpg
END:VEVENT
BEGIN:VEVENT
DTSTART;TZID=America/Chicago:20260601T180000
DTEND;TZID=America/Chicago:20260601T190000
DTSTAMP:20260422T052635
CREATED:20251204T201211Z
LAST-MODIFIED:20260316T212206Z
UID:10003688-1780336800-1780340400@glasa.org
SUMMARY:Roller Workout (Virtual)
DESCRIPTION:The roller workouts provide a variety of pushes to enhance speed\, cardio\, and endurance for the beginner to the competitive racer. Contact chousner@glasa.org if you need a roller. \nTeen & Adult; Wheelchair only \nPlease check the calendar in SportsPlus for the most up-to-date schedule. The link to join the Zoom session is listed under “Resources” in the Roller Workouts Team page in SportsPlus.
URL:https://glasa.org/event/roller-workouts/2026-06-01/
CATEGORIES:Marathon,Virtual Programs
ATTACH;FMTTYPE=image/jpeg:https://glasa.org/wp-content/uploads/2024/01/Racers19-copy.jpg
END:VEVENT
END:VCALENDAR