BEGIN:VCALENDAR
VERSION:2.0
PRODID:-//Great Lakes Adaptive Sports Association – Let no one sit on the sidelines - ECPv6.15.18//NONSGML v1.0//EN
CALSCALE:GREGORIAN
METHOD:PUBLISH
X-WR-CALNAME:Great Lakes Adaptive Sports Association – Let no one sit on the sidelines
X-ORIGINAL-URL:https://glasa.org
X-WR-CALDESC:Events for Great Lakes Adaptive Sports Association – Let no one sit on the sidelines
REFRESH-INTERVAL;VALUE=DURATION:PT1H
X-Robots-Tag:noindex
X-PUBLISHED-TTL:PT1H
BEGIN:VTIMEZONE
TZID:America/Chicago
BEGIN:DAYLIGHT
TZOFFSETFROM:-0600
TZOFFSETTO:-0500
TZNAME:CDT
DTSTART:20250309T080000
END:DAYLIGHT
BEGIN:STANDARD
TZOFFSETFROM:-0500
TZOFFSETTO:-0600
TZNAME:CST
DTSTART:20251102T070000
END:STANDARD
BEGIN:DAYLIGHT
TZOFFSETFROM:-0600
TZOFFSETTO:-0500
TZNAME:CDT
DTSTART:20260308T080000
END:DAYLIGHT
BEGIN:STANDARD
TZOFFSETFROM:-0500
TZOFFSETTO:-0600
TZNAME:CST
DTSTART:20261101T070000
END:STANDARD
BEGIN:DAYLIGHT
TZOFFSETFROM:-0600
TZOFFSETTO:-0500
TZNAME:CDT
DTSTART:20270314T080000
END:DAYLIGHT
BEGIN:STANDARD
TZOFFSETFROM:-0500
TZOFFSETTO:-0600
TZNAME:CST
DTSTART:20271107T070000
END:STANDARD
END:VTIMEZONE
BEGIN:VEVENT
DTSTART;TZID=America/Chicago:20260422T173000
DTEND;TZID=America/Chicago:20260422T193000
DTSTAMP:20260422T060006
CREATED:20260108T225311Z
LAST-MODIFIED:20260108T225311Z
UID:10003613-1776879000-1776886200@glasa.org
SUMMARY:Pickleball
DESCRIPTION:Para Pickleball is an inclusive and adaptive version of the popular sport of pickleball\, designed to accommodate players with varying abilities and mobility challenges. Pickleball will take place in Lake Forest\, IL. Ages 16+. Wheelchair and Ambulatory. \nPlease check the calendar in SportsPlus for the most up-to-date schedule.
URL:https://glasa.org/event/pickleball-3-2/2026-04-22/
CATEGORIES:Pickleball
ATTACH;FMTTYPE=image/jpeg:https://glasa.org/wp-content/uploads/2023/11/Emma-Jundt-playing-Pickleball.jpg
END:VEVENT
BEGIN:VEVENT
DTSTART;TZID=America/Chicago:20260429T173000
DTEND;TZID=America/Chicago:20260429T193000
DTSTAMP:20260422T060006
CREATED:20260108T225311Z
LAST-MODIFIED:20260108T225311Z
UID:10003614-1777483800-1777491000@glasa.org
SUMMARY:Pickleball
DESCRIPTION:Para Pickleball is an inclusive and adaptive version of the popular sport of pickleball\, designed to accommodate players with varying abilities and mobility challenges. Pickleball will take place in Lake Forest\, IL. Ages 16+. Wheelchair and Ambulatory. \nPlease check the calendar in SportsPlus for the most up-to-date schedule.
URL:https://glasa.org/event/pickleball-3-2/2026-04-29/
CATEGORIES:Pickleball
ATTACH;FMTTYPE=image/jpeg:https://glasa.org/wp-content/uploads/2023/11/Emma-Jundt-playing-Pickleball.jpg
END:VEVENT
BEGIN:VEVENT
DTSTART;TZID=America/Chicago:20260506T173000
DTEND;TZID=America/Chicago:20260506T193000
DTSTAMP:20260422T060006
CREATED:20260108T225311Z
LAST-MODIFIED:20260108T225311Z
UID:10003615-1778088600-1778095800@glasa.org
SUMMARY:Pickleball
DESCRIPTION:Para Pickleball is an inclusive and adaptive version of the popular sport of pickleball\, designed to accommodate players with varying abilities and mobility challenges. Pickleball will take place in Lake Forest\, IL. Ages 16+. Wheelchair and Ambulatory. \nPlease check the calendar in SportsPlus for the most up-to-date schedule.
URL:https://glasa.org/event/pickleball-3-2/2026-05-06/
CATEGORIES:Pickleball
ATTACH;FMTTYPE=image/jpeg:https://glasa.org/wp-content/uploads/2023/11/Emma-Jundt-playing-Pickleball.jpg
END:VEVENT
BEGIN:VEVENT
DTSTART;TZID=America/Chicago:20260513T173000
DTEND;TZID=America/Chicago:20260513T193000
DTSTAMP:20260422T060006
CREATED:20260108T225311Z
LAST-MODIFIED:20260108T225311Z
UID:10003616-1778693400-1778700600@glasa.org
SUMMARY:Pickleball
DESCRIPTION:Para Pickleball is an inclusive and adaptive version of the popular sport of pickleball\, designed to accommodate players with varying abilities and mobility challenges. Pickleball will take place in Lake Forest\, IL. Ages 16+. Wheelchair and Ambulatory. \nPlease check the calendar in SportsPlus for the most up-to-date schedule.
URL:https://glasa.org/event/pickleball-3-2/2026-05-13/
CATEGORIES:Pickleball
ATTACH;FMTTYPE=image/jpeg:https://glasa.org/wp-content/uploads/2023/11/Emma-Jundt-playing-Pickleball.jpg
END:VEVENT
BEGIN:VEVENT
DTSTART;TZID=America/Chicago:20260520T173000
DTEND;TZID=America/Chicago:20260520T193000
DTSTAMP:20260422T060006
CREATED:20260108T225311Z
LAST-MODIFIED:20260108T225311Z
UID:10003617-1779298200-1779305400@glasa.org
SUMMARY:Pickleball
DESCRIPTION:Para Pickleball is an inclusive and adaptive version of the popular sport of pickleball\, designed to accommodate players with varying abilities and mobility challenges. Pickleball will take place in Lake Forest\, IL. Ages 16+. Wheelchair and Ambulatory. \nPlease check the calendar in SportsPlus for the most up-to-date schedule.
URL:https://glasa.org/event/pickleball-3-2/2026-05-20/
CATEGORIES:Pickleball
ATTACH;FMTTYPE=image/jpeg:https://glasa.org/wp-content/uploads/2023/11/Emma-Jundt-playing-Pickleball.jpg
END:VEVENT
BEGIN:VEVENT
DTSTART;TZID=America/Chicago:20260527T173000
DTEND;TZID=America/Chicago:20260527T193000
DTSTAMP:20260422T060006
CREATED:20260108T225311Z
LAST-MODIFIED:20260108T225311Z
UID:10003618-1779903000-1779910200@glasa.org
SUMMARY:Pickleball
DESCRIPTION:Para Pickleball is an inclusive and adaptive version of the popular sport of pickleball\, designed to accommodate players with varying abilities and mobility challenges. Pickleball will take place in Lake Forest\, IL. Ages 16+. Wheelchair and Ambulatory. \nPlease check the calendar in SportsPlus for the most up-to-date schedule.
URL:https://glasa.org/event/pickleball-3-2/2026-05-27/
CATEGORIES:Pickleball
ATTACH;FMTTYPE=image/jpeg:https://glasa.org/wp-content/uploads/2023/11/Emma-Jundt-playing-Pickleball.jpg
END:VEVENT
END:VCALENDAR