BEGIN:VCALENDAR
VERSION:2.0
PRODID:-//Great Lakes Adaptive Sports Association – Let no one sit on the sidelines - ECPv6.15.18//NONSGML v1.0//EN
CALSCALE:GREGORIAN
METHOD:PUBLISH
X-WR-CALNAME:Great Lakes Adaptive Sports Association – Let no one sit on the sidelines
X-ORIGINAL-URL:https://glasa.org
X-WR-CALDESC:Events for Great Lakes Adaptive Sports Association – Let no one sit on the sidelines
REFRESH-INTERVAL;VALUE=DURATION:PT1H
X-Robots-Tag:noindex
X-PUBLISHED-TTL:PT1H
BEGIN:VTIMEZONE
TZID:America/Chicago
BEGIN:DAYLIGHT
TZOFFSETFROM:-0600
TZOFFSETTO:-0500
TZNAME:CDT
DTSTART:20250309T080000
END:DAYLIGHT
BEGIN:STANDARD
TZOFFSETFROM:-0500
TZOFFSETTO:-0600
TZNAME:CST
DTSTART:20251102T070000
END:STANDARD
BEGIN:DAYLIGHT
TZOFFSETFROM:-0600
TZOFFSETTO:-0500
TZNAME:CDT
DTSTART:20260308T080000
END:DAYLIGHT
BEGIN:STANDARD
TZOFFSETFROM:-0500
TZOFFSETTO:-0600
TZNAME:CST
DTSTART:20261101T070000
END:STANDARD
BEGIN:DAYLIGHT
TZOFFSETFROM:-0600
TZOFFSETTO:-0500
TZNAME:CDT
DTSTART:20270314T080000
END:DAYLIGHT
BEGIN:STANDARD
TZOFFSETFROM:-0500
TZOFFSETTO:-0600
TZNAME:CST
DTSTART:20271107T070000
END:STANDARD
END:VTIMEZONE
BEGIN:VEVENT
DTSTART;TZID=America/Chicago:20260422T163000
DTEND;TZID=America/Chicago:20260422T173000
DTSTAMP:20260422T054310
CREATED:20251202T181342Z
LAST-MODIFIED:20260108T225147Z
UID:10003479-1776875400-1776879000@glasa.org
SUMMARY:Conditioning (Live or Virtual)
DESCRIPTION:Conditioning incorporates elements from several sports and types of exercise. Workouts are modified to allow each athlete to achieve their goals while working to increase their physical health and cardiovascular fitness. This class can be taken either live or virtually. If attending live\, the location is at the GLASA office. \nPlease check the calendar in SportsPlus for the most up-to-date schedule.
URL:https://glasa.org/event/conditioning-live-or-virtual-6/2026-04-22/
CATEGORIES:Conditioning,Virtual Programs
ATTACH;FMTTYPE=image/jpeg:https://glasa.org/wp-content/uploads/2023/07/Sport-_0045_Conditioning-2.jpg
END:VEVENT
BEGIN:VEVENT
DTSTART;TZID=America/Chicago:20260429T163000
DTEND;TZID=America/Chicago:20260429T173000
DTSTAMP:20260422T054310
CREATED:20251202T181342Z
LAST-MODIFIED:20260108T225147Z
UID:10003480-1777480200-1777483800@glasa.org
SUMMARY:Conditioning (Live or Virtual)
DESCRIPTION:Conditioning incorporates elements from several sports and types of exercise. Workouts are modified to allow each athlete to achieve their goals while working to increase their physical health and cardiovascular fitness. This class can be taken either live or virtually. If attending live\, the location is at the GLASA office. \nPlease check the calendar in SportsPlus for the most up-to-date schedule.
URL:https://glasa.org/event/conditioning-live-or-virtual-6/2026-04-29/
CATEGORIES:Conditioning,Virtual Programs
ATTACH;FMTTYPE=image/jpeg:https://glasa.org/wp-content/uploads/2023/07/Sport-_0045_Conditioning-2.jpg
END:VEVENT
BEGIN:VEVENT
DTSTART;TZID=America/Chicago:20260506T163000
DTEND;TZID=America/Chicago:20260506T173000
DTSTAMP:20260422T054310
CREATED:20251202T181342Z
LAST-MODIFIED:20260108T225147Z
UID:10003481-1778085000-1778088600@glasa.org
SUMMARY:Conditioning (Live or Virtual)
DESCRIPTION:Conditioning incorporates elements from several sports and types of exercise. Workouts are modified to allow each athlete to achieve their goals while working to increase their physical health and cardiovascular fitness. This class can be taken either live or virtually. If attending live\, the location is at the GLASA office. \nPlease check the calendar in SportsPlus for the most up-to-date schedule.
URL:https://glasa.org/event/conditioning-live-or-virtual-6/2026-05-06/
CATEGORIES:Conditioning,Virtual Programs
ATTACH;FMTTYPE=image/jpeg:https://glasa.org/wp-content/uploads/2023/07/Sport-_0045_Conditioning-2.jpg
END:VEVENT
BEGIN:VEVENT
DTSTART;TZID=America/Chicago:20260513T163000
DTEND;TZID=America/Chicago:20260513T173000
DTSTAMP:20260422T054310
CREATED:20251202T181342Z
LAST-MODIFIED:20260108T225147Z
UID:10003482-1778689800-1778693400@glasa.org
SUMMARY:Conditioning (Live or Virtual)
DESCRIPTION:Conditioning incorporates elements from several sports and types of exercise. Workouts are modified to allow each athlete to achieve their goals while working to increase their physical health and cardiovascular fitness. This class can be taken either live or virtually. If attending live\, the location is at the GLASA office. \nPlease check the calendar in SportsPlus for the most up-to-date schedule.
URL:https://glasa.org/event/conditioning-live-or-virtual-6/2026-05-13/
CATEGORIES:Conditioning,Virtual Programs
ATTACH;FMTTYPE=image/jpeg:https://glasa.org/wp-content/uploads/2023/07/Sport-_0045_Conditioning-2.jpg
END:VEVENT
BEGIN:VEVENT
DTSTART;TZID=America/Chicago:20260520T163000
DTEND;TZID=America/Chicago:20260520T173000
DTSTAMP:20260422T054310
CREATED:20251202T181342Z
LAST-MODIFIED:20260108T225147Z
UID:10003483-1779294600-1779298200@glasa.org
SUMMARY:Conditioning (Live or Virtual)
DESCRIPTION:Conditioning incorporates elements from several sports and types of exercise. Workouts are modified to allow each athlete to achieve their goals while working to increase their physical health and cardiovascular fitness. This class can be taken either live or virtually. If attending live\, the location is at the GLASA office. \nPlease check the calendar in SportsPlus for the most up-to-date schedule.
URL:https://glasa.org/event/conditioning-live-or-virtual-6/2026-05-20/
CATEGORIES:Conditioning,Virtual Programs
ATTACH;FMTTYPE=image/jpeg:https://glasa.org/wp-content/uploads/2023/07/Sport-_0045_Conditioning-2.jpg
END:VEVENT
BEGIN:VEVENT
DTSTART;TZID=America/Chicago:20260527T163000
DTEND;TZID=America/Chicago:20260527T173000
DTSTAMP:20260422T054310
CREATED:20251202T181342Z
LAST-MODIFIED:20260108T225147Z
UID:10003484-1779899400-1779903000@glasa.org
SUMMARY:Conditioning (Live or Virtual)
DESCRIPTION:Conditioning incorporates elements from several sports and types of exercise. Workouts are modified to allow each athlete to achieve their goals while working to increase their physical health and cardiovascular fitness. This class can be taken either live or virtually. If attending live\, the location is at the GLASA office. \nPlease check the calendar in SportsPlus for the most up-to-date schedule.
URL:https://glasa.org/event/conditioning-live-or-virtual-6/2026-05-27/
CATEGORIES:Conditioning,Virtual Programs
ATTACH;FMTTYPE=image/jpeg:https://glasa.org/wp-content/uploads/2023/07/Sport-_0045_Conditioning-2.jpg
END:VEVENT
BEGIN:VEVENT
DTSTART;TZID=America/Chicago:20260603T163000
DTEND;TZID=America/Chicago:20260603T173000
DTSTAMP:20260422T054310
CREATED:20251202T181342Z
LAST-MODIFIED:20260108T225147Z
UID:10003485-1780504200-1780507800@glasa.org
SUMMARY:Conditioning (Live or Virtual)
DESCRIPTION:Conditioning incorporates elements from several sports and types of exercise. Workouts are modified to allow each athlete to achieve their goals while working to increase their physical health and cardiovascular fitness. This class can be taken either live or virtually. If attending live\, the location is at the GLASA office. \nPlease check the calendar in SportsPlus for the most up-to-date schedule.
URL:https://glasa.org/event/conditioning-live-or-virtual-6/2026-06-03/
CATEGORIES:Conditioning,Virtual Programs
ATTACH;FMTTYPE=image/jpeg:https://glasa.org/wp-content/uploads/2023/07/Sport-_0045_Conditioning-2.jpg
END:VEVENT
END:VCALENDAR