BEGIN:VCALENDAR
VERSION:2.0
PRODID:-//Great Lakes Adaptive Sports Association – Let no one sit on the sidelines - ECPv6.15.18//NONSGML v1.0//EN
CALSCALE:GREGORIAN
METHOD:PUBLISH
X-WR-CALNAME:Great Lakes Adaptive Sports Association – Let no one sit on the sidelines
X-ORIGINAL-URL:https://glasa.org
X-WR-CALDESC:Events for Great Lakes Adaptive Sports Association – Let no one sit on the sidelines
REFRESH-INTERVAL;VALUE=DURATION:PT1H
X-Robots-Tag:noindex
X-PUBLISHED-TTL:PT1H
BEGIN:VTIMEZONE
TZID:America/Chicago
BEGIN:DAYLIGHT
TZOFFSETFROM:-0600
TZOFFSETTO:-0500
TZNAME:CDT
DTSTART:20250309T080000
END:DAYLIGHT
BEGIN:STANDARD
TZOFFSETFROM:-0500
TZOFFSETTO:-0600
TZNAME:CST
DTSTART:20251102T070000
END:STANDARD
BEGIN:DAYLIGHT
TZOFFSETFROM:-0600
TZOFFSETTO:-0500
TZNAME:CDT
DTSTART:20260308T080000
END:DAYLIGHT
BEGIN:STANDARD
TZOFFSETFROM:-0500
TZOFFSETTO:-0600
TZNAME:CST
DTSTART:20261101T070000
END:STANDARD
BEGIN:DAYLIGHT
TZOFFSETFROM:-0600
TZOFFSETTO:-0500
TZNAME:CDT
DTSTART:20270314T080000
END:DAYLIGHT
BEGIN:STANDARD
TZOFFSETFROM:-0500
TZOFFSETTO:-0600
TZNAME:CST
DTSTART:20271107T070000
END:STANDARD
END:VTIMEZONE
BEGIN:VEVENT
DTSTART;TZID=America/Chicago:20260423T193000
DTEND;TZID=America/Chicago:20260423T203000
DTSTAMP:20260422T054440
CREATED:20260108T225514Z
LAST-MODIFIED:20260406T114538Z
UID:10003662-1776972600-1776976200@glasa.org
SUMMARY:Swim
DESCRIPTION:The Instructional Swim* program is for individuals who have a physical or visual disability who are new to swimming. Athletes will be assigned one-on-one to a volunteer swim instructor. Floatation devices will not be used in the teaching progression. \nThursday evenings in Carol Stream \nAlso offered on Sunday evenings in Lake Forest \n*Limited space available. Please contact Cindy Housner (chousner@glasa.org) to confirm your spot. \nPlease check the calendar in SportsPlus for the most up-to-date schedule. \n  \n 
URL:https://glasa.org/event/swim-3-2/2026-04-23/
CATEGORIES:Swim
ATTACH;FMTTYPE=image/png:https://glasa.org/wp-content/uploads/2023/05/Swim09@2x.png
END:VEVENT
BEGIN:VEVENT
DTSTART;TZID=America/Chicago:20260430T193000
DTEND;TZID=America/Chicago:20260430T203000
DTSTAMP:20260422T054440
CREATED:20260108T225514Z
LAST-MODIFIED:20260406T114538Z
UID:10003663-1777577400-1777581000@glasa.org
SUMMARY:Swim
DESCRIPTION:The Instructional Swim* program is for individuals who have a physical or visual disability who are new to swimming. Athletes will be assigned one-on-one to a volunteer swim instructor. Floatation devices will not be used in the teaching progression. \nThursday evenings in Carol Stream \nAlso offered on Sunday evenings in Lake Forest \n*Limited space available. Please contact Cindy Housner (chousner@glasa.org) to confirm your spot. \nPlease check the calendar in SportsPlus for the most up-to-date schedule. \n  \n 
URL:https://glasa.org/event/swim-3-2/2026-04-30/
CATEGORIES:Swim
ATTACH;FMTTYPE=image/png:https://glasa.org/wp-content/uploads/2023/05/Swim09@2x.png
END:VEVENT
BEGIN:VEVENT
DTSTART;TZID=America/Chicago:20260507T193000
DTEND;TZID=America/Chicago:20260507T203000
DTSTAMP:20260422T054440
CREATED:20260108T225514Z
LAST-MODIFIED:20260406T114538Z
UID:10003664-1778182200-1778185800@glasa.org
SUMMARY:Swim
DESCRIPTION:The Instructional Swim* program is for individuals who have a physical or visual disability who are new to swimming. Athletes will be assigned one-on-one to a volunteer swim instructor. Floatation devices will not be used in the teaching progression. \nThursday evenings in Carol Stream \nAlso offered on Sunday evenings in Lake Forest \n*Limited space available. Please contact Cindy Housner (chousner@glasa.org) to confirm your spot. \nPlease check the calendar in SportsPlus for the most up-to-date schedule. \n  \n 
URL:https://glasa.org/event/swim-3-2/2026-05-07/
CATEGORIES:Swim
ATTACH;FMTTYPE=image/png:https://glasa.org/wp-content/uploads/2023/05/Swim09@2x.png
END:VEVENT
BEGIN:VEVENT
DTSTART;TZID=America/Chicago:20260514T193000
DTEND;TZID=America/Chicago:20260514T203000
DTSTAMP:20260422T054440
CREATED:20260108T225514Z
LAST-MODIFIED:20260406T114538Z
UID:10003665-1778787000-1778790600@glasa.org
SUMMARY:Swim
DESCRIPTION:The Instructional Swim* program is for individuals who have a physical or visual disability who are new to swimming. Athletes will be assigned one-on-one to a volunteer swim instructor. Floatation devices will not be used in the teaching progression. \nThursday evenings in Carol Stream \nAlso offered on Sunday evenings in Lake Forest \n*Limited space available. Please contact Cindy Housner (chousner@glasa.org) to confirm your spot. \nPlease check the calendar in SportsPlus for the most up-to-date schedule. \n  \n 
URL:https://glasa.org/event/swim-3-2/2026-05-14/
CATEGORIES:Swim
ATTACH;FMTTYPE=image/png:https://glasa.org/wp-content/uploads/2023/05/Swim09@2x.png
END:VEVENT
BEGIN:VEVENT
DTSTART;TZID=America/Chicago:20260521T193000
DTEND;TZID=America/Chicago:20260521T203000
DTSTAMP:20260422T054440
CREATED:20260108T225514Z
LAST-MODIFIED:20260406T114538Z
UID:10003666-1779391800-1779395400@glasa.org
SUMMARY:Swim
DESCRIPTION:The Instructional Swim* program is for individuals who have a physical or visual disability who are new to swimming. Athletes will be assigned one-on-one to a volunteer swim instructor. Floatation devices will not be used in the teaching progression. \nThursday evenings in Carol Stream \nAlso offered on Sunday evenings in Lake Forest \n*Limited space available. Please contact Cindy Housner (chousner@glasa.org) to confirm your spot. \nPlease check the calendar in SportsPlus for the most up-to-date schedule. \n  \n 
URL:https://glasa.org/event/swim-3-2/2026-05-21/
CATEGORIES:Swim
ATTACH;FMTTYPE=image/png:https://glasa.org/wp-content/uploads/2023/05/Swim09@2x.png
END:VEVENT
BEGIN:VEVENT
DTSTART;TZID=America/Chicago:20260528T193000
DTEND;TZID=America/Chicago:20260528T203000
DTSTAMP:20260422T054440
CREATED:20260108T225514Z
LAST-MODIFIED:20260406T114538Z
UID:10003667-1779996600-1780000200@glasa.org
SUMMARY:Swim
DESCRIPTION:The Instructional Swim* program is for individuals who have a physical or visual disability who are new to swimming. Athletes will be assigned one-on-one to a volunteer swim instructor. Floatation devices will not be used in the teaching progression. \nThursday evenings in Carol Stream \nAlso offered on Sunday evenings in Lake Forest \n*Limited space available. Please contact Cindy Housner (chousner@glasa.org) to confirm your spot. \nPlease check the calendar in SportsPlus for the most up-to-date schedule. \n  \n 
URL:https://glasa.org/event/swim-3-2/2026-05-28/
CATEGORIES:Swim
ATTACH;FMTTYPE=image/png:https://glasa.org/wp-content/uploads/2023/05/Swim09@2x.png
END:VEVENT
BEGIN:VEVENT
DTSTART;TZID=America/Chicago:20260604T193000
DTEND;TZID=America/Chicago:20260604T203000
DTSTAMP:20260422T054440
CREATED:20260108T225514Z
LAST-MODIFIED:20260406T114538Z
UID:10003916-1780601400-1780605000@glasa.org
SUMMARY:Swim
DESCRIPTION:The Instructional Swim* program is for individuals who have a physical or visual disability who are new to swimming. Athletes will be assigned one-on-one to a volunteer swim instructor. Floatation devices will not be used in the teaching progression. \nThursday evenings in Carol Stream \nAlso offered on Sunday evenings in Lake Forest \n*Limited space available. Please contact Cindy Housner (chousner@glasa.org) to confirm your spot. \nPlease check the calendar in SportsPlus for the most up-to-date schedule. \n  \n 
URL:https://glasa.org/event/swim-3-2/2026-06-04/
CATEGORIES:Swim
ATTACH;FMTTYPE=image/png:https://glasa.org/wp-content/uploads/2023/05/Swim09@2x.png
END:VEVENT
BEGIN:VEVENT
DTSTART;TZID=America/Chicago:20260611T193000
DTEND;TZID=America/Chicago:20260611T203000
DTSTAMP:20260422T054440
CREATED:20260108T225514Z
LAST-MODIFIED:20260406T114538Z
UID:10003917-1781206200-1781209800@glasa.org
SUMMARY:Swim
DESCRIPTION:The Instructional Swim* program is for individuals who have a physical or visual disability who are new to swimming. Athletes will be assigned one-on-one to a volunteer swim instructor. Floatation devices will not be used in the teaching progression. \nThursday evenings in Carol Stream \nAlso offered on Sunday evenings in Lake Forest \n*Limited space available. Please contact Cindy Housner (chousner@glasa.org) to confirm your spot. \nPlease check the calendar in SportsPlus for the most up-to-date schedule. \n  \n 
URL:https://glasa.org/event/swim-3-2/2026-06-11/
CATEGORIES:Swim
ATTACH;FMTTYPE=image/png:https://glasa.org/wp-content/uploads/2023/05/Swim09@2x.png
END:VEVENT
BEGIN:VEVENT
DTSTART;TZID=America/Chicago:20260625T193000
DTEND;TZID=America/Chicago:20260625T203000
DTSTAMP:20260422T054440
CREATED:20260108T225514Z
LAST-MODIFIED:20260406T114538Z
UID:10003918-1782415800-1782419400@glasa.org
SUMMARY:Swim
DESCRIPTION:The Instructional Swim* program is for individuals who have a physical or visual disability who are new to swimming. Athletes will be assigned one-on-one to a volunteer swim instructor. Floatation devices will not be used in the teaching progression. \nThursday evenings in Carol Stream \nAlso offered on Sunday evenings in Lake Forest \n*Limited space available. Please contact Cindy Housner (chousner@glasa.org) to confirm your spot. \nPlease check the calendar in SportsPlus for the most up-to-date schedule. \n  \n 
URL:https://glasa.org/event/swim-3-2/2026-06-25/
CATEGORIES:Swim
ATTACH;FMTTYPE=image/png:https://glasa.org/wp-content/uploads/2023/05/Swim09@2x.png
END:VEVENT
BEGIN:VEVENT
DTSTART;TZID=America/Chicago:20260702T193000
DTEND;TZID=America/Chicago:20260702T203000
DTSTAMP:20260422T054440
CREATED:20260108T225514Z
LAST-MODIFIED:20260406T114538Z
UID:10003919-1783020600-1783024200@glasa.org
SUMMARY:Swim
DESCRIPTION:The Instructional Swim* program is for individuals who have a physical or visual disability who are new to swimming. Athletes will be assigned one-on-one to a volunteer swim instructor. Floatation devices will not be used in the teaching progression. \nThursday evenings in Carol Stream \nAlso offered on Sunday evenings in Lake Forest \n*Limited space available. Please contact Cindy Housner (chousner@glasa.org) to confirm your spot. \nPlease check the calendar in SportsPlus for the most up-to-date schedule. \n  \n 
URL:https://glasa.org/event/swim-3-2/2026-07-02/
CATEGORIES:Swim
ATTACH;FMTTYPE=image/png:https://glasa.org/wp-content/uploads/2023/05/Swim09@2x.png
END:VEVENT
BEGIN:VEVENT
DTSTART;TZID=America/Chicago:20260709T193000
DTEND;TZID=America/Chicago:20260709T203000
DTSTAMP:20260422T054440
CREATED:20260108T225514Z
LAST-MODIFIED:20260406T114538Z
UID:10003920-1783625400-1783629000@glasa.org
SUMMARY:Swim
DESCRIPTION:The Instructional Swim* program is for individuals who have a physical or visual disability who are new to swimming. Athletes will be assigned one-on-one to a volunteer swim instructor. Floatation devices will not be used in the teaching progression. \nThursday evenings in Carol Stream \nAlso offered on Sunday evenings in Lake Forest \n*Limited space available. Please contact Cindy Housner (chousner@glasa.org) to confirm your spot. \nPlease check the calendar in SportsPlus for the most up-to-date schedule. \n  \n 
URL:https://glasa.org/event/swim-3-2/2026-07-09/
CATEGORIES:Swim
ATTACH;FMTTYPE=image/png:https://glasa.org/wp-content/uploads/2023/05/Swim09@2x.png
END:VEVENT
END:VCALENDAR