BEGIN:VCALENDAR
VERSION:2.0
PRODID:-//Great Lakes Adaptive Sports Association – Let no one sit on the sidelines - ECPv6.15.18//NONSGML v1.0//EN
CALSCALE:GREGORIAN
METHOD:PUBLISH
X-WR-CALNAME:Great Lakes Adaptive Sports Association – Let no one sit on the sidelines
X-ORIGINAL-URL:https://glasa.org
X-WR-CALDESC:Events for Great Lakes Adaptive Sports Association – Let no one sit on the sidelines
REFRESH-INTERVAL;VALUE=DURATION:PT1H
X-Robots-Tag:noindex
X-PUBLISHED-TTL:PT1H
BEGIN:VTIMEZONE
TZID:America/Chicago
BEGIN:DAYLIGHT
TZOFFSETFROM:-0600
TZOFFSETTO:-0500
TZNAME:CDT
DTSTART:20250309T080000
END:DAYLIGHT
BEGIN:STANDARD
TZOFFSETFROM:-0500
TZOFFSETTO:-0600
TZNAME:CST
DTSTART:20251102T070000
END:STANDARD
BEGIN:DAYLIGHT
TZOFFSETFROM:-0600
TZOFFSETTO:-0500
TZNAME:CDT
DTSTART:20260308T080000
END:DAYLIGHT
BEGIN:STANDARD
TZOFFSETFROM:-0500
TZOFFSETTO:-0600
TZNAME:CST
DTSTART:20261101T070000
END:STANDARD
BEGIN:DAYLIGHT
TZOFFSETFROM:-0600
TZOFFSETTO:-0500
TZNAME:CDT
DTSTART:20270314T080000
END:DAYLIGHT
BEGIN:STANDARD
TZOFFSETFROM:-0500
TZOFFSETTO:-0600
TZNAME:CST
DTSTART:20271107T070000
END:STANDARD
END:VTIMEZONE
BEGIN:VEVENT
DTSTART;TZID=America/Chicago:20260422T163000
DTEND;TZID=America/Chicago:20260422T173000
DTSTAMP:20260422T053632
CREATED:20251202T181342Z
LAST-MODIFIED:20260108T225147Z
UID:10003479-1776875400-1776879000@glasa.org
SUMMARY:Conditioning (Live or Virtual)
DESCRIPTION:Conditioning incorporates elements from several sports and types of exercise. Workouts are modified to allow each athlete to achieve their goals while working to increase their physical health and cardiovascular fitness. This class can be taken either live or virtually. If attending live\, the location is at the GLASA office. \nPlease check the calendar in SportsPlus for the most up-to-date schedule.
URL:https://glasa.org/event/conditioning-live-or-virtual-6/2026-04-22/
CATEGORIES:Conditioning,Virtual Programs
ATTACH;FMTTYPE=image/jpeg:https://glasa.org/wp-content/uploads/2023/07/Sport-_0045_Conditioning-2.jpg
END:VEVENT
BEGIN:VEVENT
DTSTART;TZID=America/Chicago:20260422T173000
DTEND;TZID=America/Chicago:20260422T183000
DTSTAMP:20260422T053632
CREATED:20251202T181836Z
LAST-MODIFIED:20260407T004049Z
UID:10003523-1776879000-1776882600@glasa.org
SUMMARY:Powerlifting
DESCRIPTION:Paralympic powerlifting\, also known as para powerlifting and para-lifting\, is an adaptation of the sport of powerlifting for athletes with disabilities. The only discipline in Paralympic powerlifting is the bench press. For competition\, the bench press is the sport’s single discipline\, with 10 different categories based on body weight. Competitors must lower the bar to the chest\, hold it motionless on the chest and then press it upwards to arm’s length with locked elbows. \nTeen & Adult\, Ambulatory and Wheelchair \nOffered on Wednesday evenings and Saturday afternoons at the GLASA office \nPlease check the calendar in SportsPlus for the most up-to-date schedule.
URL:https://glasa.org/event/powerlifting-8/2026-04-22/
CATEGORIES:Powerlifting
ATTACH;FMTTYPE=image/jpeg:https://glasa.org/wp-content/uploads/2023/07/Sport-_0026_Powerlifting-1.jpg
END:VEVENT
BEGIN:VEVENT
DTSTART;TZID=America/Chicago:20260422T173000
DTEND;TZID=America/Chicago:20260422T193000
DTSTAMP:20260422T053632
CREATED:20260108T225311Z
LAST-MODIFIED:20260108T225311Z
UID:10003613-1776879000-1776886200@glasa.org
SUMMARY:Pickleball
DESCRIPTION:Para Pickleball is an inclusive and adaptive version of the popular sport of pickleball\, designed to accommodate players with varying abilities and mobility challenges. Pickleball will take place in Lake Forest\, IL. Ages 16+. Wheelchair and Ambulatory. \nPlease check the calendar in SportsPlus for the most up-to-date schedule.
URL:https://glasa.org/event/pickleball-3-2/2026-04-22/
CATEGORIES:Pickleball
ATTACH;FMTTYPE=image/jpeg:https://glasa.org/wp-content/uploads/2023/11/Emma-Jundt-playing-Pickleball.jpg
END:VEVENT
END:VCALENDAR